BEGIN:VCALENDAR
VERSION:2.0
PRODID:-//Cronulla Life - ECPv6.15.20//NONSGML v1.0//EN
CALSCALE:GREGORIAN
METHOD:PUBLISH
X-WR-CALNAME:Cronulla Life
X-ORIGINAL-URL:https://cronullalife.com.au
X-WR-CALDESC:Events for Cronulla Life
REFRESH-INTERVAL;VALUE=DURATION:PT1H
X-Robots-Tag:noindex
X-PUBLISHED-TTL:PT1H
BEGIN:VTIMEZONE
TZID:Australia/Sydney
BEGIN:STANDARD
TZOFFSETFROM:+1100
TZOFFSETTO:+1000
TZNAME:AEST
DTSTART:20170401T160000
END:STANDARD
BEGIN:DAYLIGHT
TZOFFSETFROM:+1000
TZOFFSETTO:+1100
TZNAME:AEDT
DTSTART:20170930T160000
END:DAYLIGHT
BEGIN:STANDARD
TZOFFSETFROM:+1100
TZOFFSETTO:+1000
TZNAME:AEST
DTSTART:20180331T160000
END:STANDARD
BEGIN:DAYLIGHT
TZOFFSETFROM:+1000
TZOFFSETTO:+1100
TZNAME:AEDT
DTSTART:20181006T160000
END:DAYLIGHT
BEGIN:STANDARD
TZOFFSETFROM:+1100
TZOFFSETTO:+1000
TZNAME:AEST
DTSTART:20190406T160000
END:STANDARD
BEGIN:DAYLIGHT
TZOFFSETFROM:+1000
TZOFFSETTO:+1100
TZNAME:AEDT
DTSTART:20191005T160000
END:DAYLIGHT
BEGIN:STANDARD
TZOFFSETFROM:+1100
TZOFFSETTO:+1000
TZNAME:AEST
DTSTART:20200404T160000
END:STANDARD
BEGIN:DAYLIGHT
TZOFFSETFROM:+1000
TZOFFSETTO:+1100
TZNAME:AEDT
DTSTART:20201003T160000
END:DAYLIGHT
END:VTIMEZONE
BEGIN:VEVENT
DTSTART;TZID=Australia/Sydney:20180909T140000
DTEND;TZID=Australia/Sydney:20180909T170000
DTSTAMP:20260426T043814
CREATED:20180818T040143Z
LAST-MODIFIED:20180819T025446Z
UID:1648-1536501600-1536512400@cronullalife.com.au
SUMMARY:Crash Test Drama script submission at Arts Theatre Cronulla
DESCRIPTION:Arts Theatre Cronulla \n offers their next call for writers to submit their 10 minute plays at  \n CRASH TEST DRAMA 2018 \n\n  \nSunday\, September 9th at 2pm. \nClick here to send your scripts to Graham Yates
URL:https://cronullalife.com.au/event/crash-test-drama-script-submission-at-arts-theatre-cronulla/
LOCATION:Arts Theatre Cronulla\, 6 Surf Road\, Cronulla\, NSW\, 2230\, Australia
END:VEVENT
BEGIN:VEVENT
DTSTART;TZID=Australia/Sydney:20180908T053000
DTEND;TZID=Australia/Sydney:20180908T203000
DTSTAMP:20260426T043814
CREATED:20180812T104510Z
LAST-MODIFIED:20180819T025750Z
UID:1561-1536384600-1536438600@cronullalife.com.au
SUMMARY:Free Movie Night - Monro Park
DESCRIPTION:As part of the Cronulla Festival join everyone in Monro Park\,Cronulla on Saturday 8th September when there will be a FREE showing of the award winning film THE GREATEST SHOWMAN. \nStaring Hugh Jackman\, Zac Efron and Zendaya\, this show-stopping movie will be loved by all family members\, children and adults alike.  Bring the whole family along – it’s suitable for everyone. There will be food and drinks available on the night\, and remember to bring something comfy to sit on. \nThe gates will open and 5.30 pm and the film will start at sunset – which will be approximately 6 pm.
URL:https://cronullalife.com.au/event/free-movie-night-monro-park/
LOCATION:Munro Park\, Cronulla\, Cronulla\, NSW\, 2230\, Australia
CATEGORIES:Family Friendly,Free Events
END:VEVENT
BEGIN:VEVENT
DTSTART;TZID=Australia/Sydney:20180906T140000
DTEND;TZID=Australia/Sydney:20181206T163000
DTSTAMP:20260426T043814
CREATED:20180818T054522Z
LAST-MODIFIED:20180819T030535Z
UID:1673-1536242400-1544113800@cronullalife.com.au
SUMMARY:Cronulla Recipe Club - Free Events
DESCRIPTION:  \nJoin other Cronulla foodies and share your favourite recipes and cooking tips with the Recipe Club. \n  \n  \n  \nPassionate cooks meet on the 1st Thursday of the month at Cronulla Library. \nEach meeting has a different theme such as mocktails\, chilled soups\, diabetic cooking\, Indian food and tapas.  Each meeting 2 or 3 volunteers bring tasting plates to share. \nIf you are interested in attending contact Cronulla Library for more information and registration.
URL:https://cronullalife.com.au/event/receipe-club/
LOCATION:Cronulla Library\, Cronulla Central (entry via Croydon Street or Cronulla Mall)\, Cronulla\, Cronulla\, NSW\, 2230\, Australia
END:VEVENT
BEGIN:VEVENT
DTSTART;TZID=Australia/Sydney:20180901T080000
DTEND;TZID=Australia/Sydney:20180901T150000
DTSTAMP:20260426T043814
CREATED:20180819T031637Z
LAST-MODIFIED:20180819T031637Z
UID:1685-1535788800-1535814000@cronullalife.com.au
SUMMARY:St Andrew's Anglican Church Spring Fair Cronulla
DESCRIPTION:Join St Andrew’s Anglican Church in Cronulla for their annual Spring Fair.   Bring the children and all the family along.  Suitable for all\, and FREE to attend! \n\nStalls include: \n\nBric-a-brac\nToys and Clothing\nManchester\nYummy home made cakes\nJams and Pickles\nBBQ\nDevonshire Teas\nKids Corner\nJumping Castle\nFace Painting\nFire Engine\n\nand much more
URL:https://cronullalife.com.au/event/st-andrews-anglican-church-spring-fair-cronulla/
LOCATION:NSW
CATEGORIES:Children's Events,Family Friendly,Free Events
END:VEVENT
BEGIN:VEVENT
DTSTART;TZID=Australia/Sydney:20180825T070000
DTEND;TZID=Australia/Sydney:20181027T100000
DTSTAMP:20260426T043814
CREATED:20180819T033441Z
LAST-MODIFIED:20180910T204814Z
UID:1688-1535180400-1540634400@cronullalife.com.au
SUMMARY:Cronulla 5K Park Run or Walk
DESCRIPTION:Join the FREE 5km timed run – or walk if you prefer! This weekly event arranged by local volunteers welcomes anyone to join in\, regardless of fitness levels.  It takes place every Saturday between 25 August and 27 October.   \n  \nMeet at the Don Lucas Reserve\, 1R Mitchell Road\, Cronulla \nBe there ready for a 7 am start and take in the ocean views – just stunning and what a way to start your Saturday.  \n Register at parkrun.com.au/cronulla \nor call 0417 023 599 for more information.
URL:https://cronullalife.com.au/event/cronulla-5k-park-run-or-walk/
LOCATION:Don Lucas Reserve\, Cronulla\, 1 Mitchell Road\, Cronulla\, NSW\, 2230\, Australia
CATEGORIES:Family Friendly,Free Events
END:VEVENT
BEGIN:VEVENT
DTSTART;TZID=Australia/Sydney:20180823T160000
DTEND;TZID=Australia/Sydney:20180823T183000
DTSTAMP:20260426T043814
CREATED:20180817T231701Z
LAST-MODIFIED:20180819T025325Z
UID:1629-1535040000-1535049000@cronullalife.com.au
SUMMARY:Weekly Young Actors Workshops
DESCRIPTION:Call all aspiring actors!  Join these workshops for budding actors. \nWeekly classes on Thursday’s between 4pm and 6.30pm are available – check out the Theatre’s website for detailed information.\n \n\nArts Theatre Cronulla is pleased to announce its Young Actors Program for 12 to 18 year olds.\n \nIn these workshops\, children explore national and international practices; classical\, modern\, and contemporary performances and texts; cross-cultural acting techniques; the body and physical movement and different performance genres and styles. \nThey place an emphasis on development through practical exercises and techniques for students to experiment with and add to their repertoire. The workshops are taught from an actors perspective and complementary to high school drama courses. \n\nFor more information: http://artstheatrecronulla.com.au
URL:https://cronullalife.com.au/event/young-actors-workshop/
LOCATION:Arts Theatre Cronulla\, 6 Surf Road\, Cronulla\, NSW\, 2230\, Australia
CATEGORIES:Children's Events,Family Friendly
END:VEVENT
BEGIN:VEVENT
DTSTART;TZID=Australia/Sydney:20180822T130000
DTEND;TZID=Australia/Sydney:20181219T150000
DTSTAMP:20260426T043814
CREATED:20180818T052259Z
LAST-MODIFIED:20180818T052526Z
UID:1668-1534942800-1545231600@cronullalife.com.au
SUMMARY:Cronulla Crafters Knitting & Crochet - Free Events
DESCRIPTION:  \nCalling all Knitters\, Crocheters and those who want to learn how to knit or crochet! \nFree event – no booking required – just turn up! \n  \nJoint this group of friendly knitters and crocheters.  All ages and experienced levels are welcome from beginner to advance.   Meet at Cronulla Library every Wednesday at 1pm in a fun\, relaxed and social setting.  \nPlease bring your own supplies and projects to work on.  Lots of help and advice available. \nFor more information contact Cronulla library\, call 02 9523 4980 or email cro1@ssc.nsw.gov.au
URL:https://cronullalife.com.au/event/cronulla-crafters-knitting-crochet-free-events/
LOCATION:Cronulla Library\, Cronulla Central (entry via Croydon Street or Cronulla Mall)\, Cronulla\, Cronulla\, NSW\, 2230\, Australia
CATEGORIES:Free Events
END:VEVENT
BEGIN:VEVENT
DTSTART;TZID=Australia/Sydney:20180822T103000
DTEND;TZID=Australia/Sydney:20190213T130000
DTSTAMP:20260426T043814
CREATED:20180818T041752Z
LAST-MODIFIED:20180818T050049Z
UID:1652-1534933800-1550062800@cronullalife.com.au
SUMMARY:Children's Rhymetime Cronulla Library
DESCRIPTION:Free children friendly activity!   \nJoin in the fun with your little ones for Rhymetime at Cronulla Library \nFamily Friendly children’s reading sessions including simple stories\, singing rhymes and finger puppet play. \nEvery Wednesday (during school term times) at 10.30 am and 11.30 am at Cronulla Library.  Each session runs for approximately 30 minutes. \nFree and no booking required! \nContact Cronulla Library for more information. \nor email on library@ssc.nsw.gov.au \n 
URL:https://cronullalife.com.au/event/childrens-rhymetime-cronulla/
LOCATION:Cronulla Library\, Cronulla Central (entry via Croydon Street or Cronulla Mall)\, Cronulla\, Cronulla\, NSW\, 2230\, Australia
CATEGORIES:Children's Events,Family Friendly,Free Events
END:VEVENT
BEGIN:VEVENT
DTSTART;TZID=Australia/Sydney:20180817T200000
DTEND;TZID=Australia/Sydney:20180817T230000
DTSTAMP:20260426T043814
CREATED:20180816T095632Z
LAST-MODIFIED:20180816T095820Z
UID:1602-1534536000-1534546800@cronullalife.com.au
SUMMARY:Albert Lee and Band
DESCRIPTION:Albert Lee the world renown and Grammy award winner plays in Cronulla on Friday 17 August at local Cronulla music venue The Brass Monkey.  Famous for his time as guitarist for International stars such as Emmylous Harris and Eric Clapton\, this is one of Lee’s first shows in Australia for many years.  Other venues Lee will be playing include the Sydney Guitar Festival and Gympie Muster. A musical experienced not to be missed!\n \n 
URL:https://cronullalife.com.au/event/albert-lee-and-band/
LOCATION:The Brass Monkey\, 115a Cronulla Street\, Cronulla\, NSW\, 2230\, Australia
CATEGORIES:Over 18s Only
END:VEVENT
BEGIN:VEVENT
DTSTART;TZID=Australia/Sydney:20180803T200000
DTEND;TZID=Australia/Sydney:20180908T220000
DTSTAMP:20260426T043814
CREATED:20180818T035250Z
LAST-MODIFIED:20180819T025838Z
UID:1639-1533326400-1536444000@cronullalife.com.au
SUMMARY:Mr Bailey's Minder - at Cronulla Theatre
DESCRIPTION:Visit the Arts Theatre Cronulla and see their current play\n\nMr Bailey’s Minder\n\n\n  \n  \nWritten by DEBRA OSWALD        Directed by NATALIE BANACH \n\nSet in the ramshackle Sydney home and studio of famous Australian artist Leo Bailey\, a brilliant yet abusive and alcoholic artistic genius. When his detached daughter Margo hires Therese as Leo’s latest minder he is faced with a battle of wits from her self-loathing yet resilient attitude. With the introduction of kind-spirited handyman Karl\, we see these four damaged souls struggle to accept their own and each others’ demons with resilience and a hope\, at least\, for forgiveness. \nThe play runs from Friday\, 3 August until Saturday\, 8 September\nPerformances are on Wednesday\, Friday and Saturday nights at 8pm\,\nand Sunday matinees on12\, 26 August and 2 September at 2pm \nBookings can be made but calling (02) 9523 2779 after 10 am\, and from 7:30 – 8pm on any night a performance is scheduled. \nOnline bookings available from 10am\, 21 July 2018. Just click here. \nYou can also book a ticket to view a charity preview performance here. \nCast\nTHERESE – Angela Gibson\nLEO – Graham Egan\nMARGO – Lynda Leavers\nKARL/GAVIN – David Wrightson \nCheck out the Theatre’s website for more event information.
URL:https://cronullalife.com.au/event/mr-baileys-minder-at-cronulla-theatre/
LOCATION:Arts Theatre Cronulla\, 6 Surf Road\, Cronulla\, NSW\, 2230\, Australia
END:VEVENT
END:VCALENDAR