BEGIN:VCALENDAR
VERSION:2.0
PRODID:-//Cronulla Life - ECPv6.15.20//NONSGML v1.0//EN
CALSCALE:GREGORIAN
METHOD:PUBLISH
X-WR-CALNAME:Cronulla Life
X-ORIGINAL-URL:https://cronullalife.com.au
X-WR-CALDESC:Events for Cronulla Life
REFRESH-INTERVAL;VALUE=DURATION:PT1H
X-Robots-Tag:noindex
X-PUBLISHED-TTL:PT1H
BEGIN:VTIMEZONE
TZID:Australia/Sydney
BEGIN:STANDARD
TZOFFSETFROM:+1100
TZOFFSETTO:+1000
TZNAME:AEST
DTSTART:20170401T160000
END:STANDARD
BEGIN:DAYLIGHT
TZOFFSETFROM:+1000
TZOFFSETTO:+1100
TZNAME:AEDT
DTSTART:20170930T160000
END:DAYLIGHT
BEGIN:STANDARD
TZOFFSETFROM:+1100
TZOFFSETTO:+1000
TZNAME:AEST
DTSTART:20180331T160000
END:STANDARD
BEGIN:DAYLIGHT
TZOFFSETFROM:+1000
TZOFFSETTO:+1100
TZNAME:AEDT
DTSTART:20181006T160000
END:DAYLIGHT
BEGIN:STANDARD
TZOFFSETFROM:+1100
TZOFFSETTO:+1000
TZNAME:AEST
DTSTART:20190406T160000
END:STANDARD
BEGIN:DAYLIGHT
TZOFFSETFROM:+1000
TZOFFSETTO:+1100
TZNAME:AEDT
DTSTART:20191005T160000
END:DAYLIGHT
BEGIN:STANDARD
TZOFFSETFROM:+1100
TZOFFSETTO:+1000
TZNAME:AEST
DTSTART:20200404T160000
END:STANDARD
BEGIN:DAYLIGHT
TZOFFSETFROM:+1000
TZOFFSETTO:+1100
TZNAME:AEDT
DTSTART:20201003T160000
END:DAYLIGHT
BEGIN:STANDARD
TZOFFSETFROM:+1100
TZOFFSETTO:+1000
TZNAME:AEST
DTSTART:20210403T160000
END:STANDARD
BEGIN:DAYLIGHT
TZOFFSETFROM:+1000
TZOFFSETTO:+1100
TZNAME:AEDT
DTSTART:20211002T160000
END:DAYLIGHT
END:VTIMEZONE
BEGIN:VEVENT
DTSTART;TZID=Australia/Sydney:20200127T153000
DTEND;TZID=Australia/Sydney:20200127T210000
DTSTAMP:20260426T024317
CREATED:20200118T054858Z
LAST-MODIFIED:20200119T073326Z
UID:3594-1580139000-1580158800@cronullalife.com.au
SUMMARY:Cronulla "Shire Vibes" Australia Day Music Festival 2020
DESCRIPTION:Come to Cronulla Beach to soak up the atmosphere and relax whilst listing to the cool vibes of Shire Vibes 2020.\nBring a picnic rug and some treats to eat or select some food from one of the many food outlets close by. \nArtists include: \n\n3.30 pm – Jordan Kenny\n4.00 pm – Dimi Poulous\n4.45 pm – Dylan Wright\n5.30 pm – Clay Western\n6.30 pm – Evie J Willie\n7.30 pm – Jackson Carroll
URL:https://cronullalife.com.au/event/cronulla-shire-vibes-australia-day-music-festival-2020/
CATEGORIES:Free Events
END:VEVENT
BEGIN:VEVENT
DTSTART;TZID=Australia/Sydney:20200126T203000
DTEND;TZID=Australia/Sydney:20200126T233000
DTSTAMP:20260426T024317
CREATED:20200118T061751Z
LAST-MODIFIED:20200118T061751Z
UID:3596-1580070600-1580081400@cronullalife.com.au
SUMMARY:Australia Day 2020 Music Trilogy at Cronulla Golf Club
DESCRIPTION:Enjoy and evening of your favourite Australian music with “Australian Trilogy”  a fantastic live music tribute act featuring hits from: \n\n\nCrowded House\nHoodoo Gurus\nMidnight Oil\n\n\nLast year’s event was a knock out!\n\nMore info from Cronulla Golf Club on 02 9523 6777 or info@cronullagolf.com.au\n 
URL:https://cronullalife.com.au/event/australia-day-2020-music-trilogy-at-cronulla-golf-club/
LOCATION:Cronulla Golf Club\, Cnr Hume & Elouera Road\, Cronulla\, New South Wales\, 2230\, Australia
END:VEVENT
BEGIN:VEVENT
DTSTART;TZID=Australia/Sydney:20200126T180000
DTEND;TZID=Australia/Sydney:20200126T220000
DTSTAMP:20260426T024317
CREATED:20200118T064313Z
LAST-MODIFIED:20200118T064313Z
UID:3605-1580061600-1580076000@cronullalife.com.au
SUMMARY:Australia Day Fireworks Dinner 2020 - at Zimzala Restaurant
DESCRIPTION:Round the Australia Day celebrations off with a wonderful evening at Cronulla’s Zimzala restaurant – right on the shores of South Cronulla beach.  Watch the fireworks finale from the best spot in town.\nTables from 6pm and enjoy a 3 course meal for only $95 per person with children under 12 costing $40 each.\nCall 02 9527 2011 for more details and to make a booking.
URL:https://cronullalife.com.au/event/australia-day-fireworks-dinner-2020-at-zimzala-restaurant/
LOCATION:Zimzala Restaurant\, The Esplanade\, Cronulla\, NSW\, 2230\, Australia
END:VEVENT
BEGIN:VEVENT
DTSTART;TZID=Australia/Sydney:20200126T130000
DTEND;TZID=Australia/Sydney:20200126T210000
DTSTAMP:20260426T024317
CREATED:20200118T032354Z
LAST-MODIFIED:20200119T074107Z
UID:3578-1580043600-1580072400@cronullalife.com.au
SUMMARY:Australia Day 2020 in Cronulla
DESCRIPTION:Celebrate Australia Day 2020 in Cronulla!  Enjoy two days of live music and entertainment.\n			\n				\n				\n				\n				\n				Come on down to Cronulla South Beach and celebrate Australia Day with your friends and family – there’s lot of action and things to do. \nEntertainment starts at 1pm and goes right through culminating with spectacular fireworks at 9pm. \nCome early\, bring your picnic rug and basket of goodies.  Low back chairs are OK\, but please be considerate and don’t block out people’s view of the entertainment on stage. \nThis year’s entertainment has a fantastic line up of live music including; \n\n1pm  The Kirrawee High Jazz Orchestra\n1.45 pm  Kim Sheehy\, from the 2019 series of The Voice\n2.45 pm  The Engadine and Miranda musical societies\n4.15 pm  The Royal Australian Navy Band\n5.30 pm  The National Anthem sung by the Sutherland Shire Schools Choir\n6.00 pm  The infectious sound of band Caravãna Sun \n7.00 pm  Busby Marou – Australian musical duo\n8.15 pm  The fantastic Casey Donovan – winner of Australian Idol 2004\n9.00 pm  Fireworks finale\n\n  \n			\n				\n				\n				\n				\n				Let the train take the strain!  Cronulla will be busy over the Australia Day weekend so we suggest you take the train.  Additional train services will be running\, and there’s plenty of parking at stations along the way.  \n   \nSutherland Shire’s Charity Partner for Australia Day 2020 is the Kurrunulla Aboriginal Corporation. \nThis charity will receive funds raised during Sutherland Shire Countil Australia Day 2020 events.   \nKurrunulla has been working with Aboriginal and Torres Strait Island people and organisations living in the Sutherland Shire and St George areas for many years. The Corporation helps meet the needs of frail\, aged\, and younger people with disabilities and their carers in a culturally appropriate manner. \nYou can find out more about the Corporate here kurranulla.org.au 
URL:https://cronullalife.com.au/event/australia-day-2020-in-cronulla/
LOCATION:Cronulla Beach\, Cronulla Park\, Cronulla\, NSW\, 2230\, Australia
CATEGORIES:Family Friendly,Free Events
ATTACH;FMTTYPE=image/jpeg:https://cronullalife.com.au/wp-content/uploads/2019/01/Australia-Day-2019-in-Cronulla.jpeg
END:VEVENT
BEGIN:VEVENT
DTSTART;TZID=Australia/Sydney:20200126T070000
DTEND;TZID=Australia/Sydney:20200126T090000
DTSTAMP:20260426T024317
CREATED:20200118T063025Z
LAST-MODIFIED:20200118T063025Z
UID:3600-1580022000-1580029200@cronullalife.com.au
SUMMARY:North Cronulla Surf Life Saving Club Australia Day Iron Person Classic
DESCRIPTION:Join the Australia Day – North Cronulla SLSC Iron Person Classic\nCompetitions include:\nU9 and U10:  200m swim\, 100m run\, 300m board\, 200m run\nU11 and U12:  300m swim\, 100m run\, 420m board\, 200m run\nU13 and U14:  450m swim\, 100m run\, 650m board\, 200m run\nU15:  650m swim\, 100m run\, 850m board\, 200m run\nNote all competitions will only be held if conditions allow them to\, at the Club discretion.\n\nArrive for registrations from 7:00am\nCompetitions start from 8:30am\nPrized for each age\nMale and female separate competitions\nEntry fees apply\nAll enquires should be to Colin Bulloch on 0473 636 476 or Donna Hargreaves on 0403 335 625
URL:https://cronullalife.com.au/event/north-cronulla-surf-life-saving-club-australia-day-iron-person-classic/
LOCATION:North Cronulla Surf Life Saving Club\, Dunningham Park\, Kingsway\, Cronulla\, NSW\, 2230\, Australia
CATEGORIES:Family Friendly
END:VEVENT
BEGIN:VEVENT
DTSTART;TZID=Australia/Sydney:20200125T193000
DTEND;TZID=Australia/Sydney:20200125T193000
DTSTAMP:20260426T024317
CREATED:20200118T063538Z
LAST-MODIFIED:20200118T063538Z
UID:3603-1579980600-1579980600@cronullalife.com.au
SUMMARY:Oz Day Eve Music at Cronulla Golf
DESCRIPTION:Join the fabulous Steve Hart and the ALL STARS as they perform their live music at Cronulla Golf Club.  Our local rock hero hit the stage to get Australia Day off to a kick start.\nAlso featuring Ellie & The Vandelles and a special surprise guest appears form an Ozzy Rock Icon\nFree entry – get there early to grab your spot.
URL:https://cronullalife.com.au/event/oz-day-eve-music-at-cronulla-golf/
LOCATION:Cronulla Golf Club\, Cnr Hume & Elouera Road\, Cronulla\, New South Wales\, 2230\, Australia
CATEGORIES:Free Events
END:VEVENT
BEGIN:VEVENT
DTSTART;TZID=Australia/Sydney:20190831T163000
DTEND;TZID=Australia/Sydney:20190831T200000
DTSTAMP:20260426T024317
CREATED:20190712T051251Z
LAST-MODIFIED:20190712T051251Z
UID:3517-1567269000-1567281600@cronullalife.com.au
SUMMARY:Free Movie Night 2019 - Monro Park\, Cronulla
DESCRIPTION:As part of the Cronulla Festival join everyone in Monro Park\,Cronulla on Saturday 31 August when there will be a FREE outdoor cinema event.   Details to be released soon! \nThe film will start around 6.30pm at sunset\, and gates will open at 5.30pm for you to take up your position! \nMovies @ Monro
URL:https://cronullalife.com.au/event/free-movie-night-2019-monro-park-cronulla/
CATEGORIES:Children's Events,Family Friendly,Free Events
END:VEVENT
BEGIN:VEVENT
DTSTART;TZID=Australia/Sydney:20190831T090000
DTEND;TZID=Australia/Sydney:20190901T160000
DTSTAMP:20260426T024317
CREATED:20180812T054520Z
LAST-MODIFIED:20190712T044151Z
UID:1555-1567242000-1567353600@cronullalife.com.au
SUMMARY:Cronulla Spring Festival 2019
DESCRIPTION:Come and enjoy the Cronulla Spring Festival.   \nThe Sutherland Shire’s largest annual festival welcomes Spring with a great weekend full of things to enjoy for you\, your children – in fact all the family – and friends to enjoy.  2019 sees over 100 stalls including artisan products.  Including kids zone and market stalls. There will be live music throughout the day and as always a great selection of food available from the fabulous food trucks and craft beer and wine.  You won’t go hungry or thirsty! \n9am to 4pm daily\nSaturday 31 August and Sunday 1 September \nLocated in the laid back coastal town of Cronulla the festival is a popular event in Cronulla’s annual community calendar.
URL:https://cronullalife.com.au/event/cronulla-spring-festival-2018/
LOCATION:Cronulla Plaza plus Munro Park\, Cronulla Plaza\, Cronulla\, NSW\, 2230\, Australia
CATEGORIES:Children's Events,Family Friendly,Free Events
ORGANIZER;CN="":MAILTO:info@cronullaspringfestival.com.au
END:VEVENT
BEGIN:VEVENT
DTSTART;TZID=Australia/Sydney:20190801T173000
DTEND;TZID=Australia/Sydney:20190801T220000
DTSTAMP:20260426T024317
CREATED:20190729T101653Z
LAST-MODIFIED:20190729T102209Z
UID:3531-1564680600-1564696800@cronullalife.com.au
SUMMARY:Zimzala Cronulla - Street Feast Dining Event
DESCRIPTION:Enjoy a fabulous 10 course degustation menu at Zimzala Cronulla. \nBookings essential on 02 9527 2011 \nOnly $55 a person with BYO $5 each
URL:https://cronullalife.com.au/event/zimzala-cronulla-street-feast-dining-event/
LOCATION:Zimzala Restaurant\, The Esplanade\, Cronulla\, NSW\, 2230\, Australia
CATEGORIES:Family Friendly
END:VEVENT
BEGIN:VEVENT
DTSTART;TZID=Australia/Sydney:20190720T190000
DTEND;TZID=Australia/Sydney:20190720T223000
DTSTAMP:20260426T024317
CREATED:20190707T101408Z
LAST-MODIFIED:20190707T101408Z
UID:3481-1563649200-1563661800@cronullalife.com.au
SUMMARY:Old Joes/Northies Christmas in July
DESCRIPTION:Old Joes @ Northies Christmas in July Party\nJoin the crew at Old Joes @ Northies\, Cronulla for some serious chills & thrills on Saturday 20th July form 8pm. \nDJs include K-Time and Helena Ellis\n 
URL:https://cronullalife.com.au/event/old-joes-northies-christmas-in-july/
LOCATION:Northies\, Cronulla\, Kingsway & Elouera Road\, Cronulla\, NSW\, 2230
CATEGORIES:Over 18s Only
END:VEVENT
BEGIN:VEVENT
DTSTART;TZID=Australia/Sydney:20190711T090000
DTEND;TZID=Australia/Sydney:20190711T140000
DTSTAMP:20260426T024317
CREATED:20190611T104530Z
LAST-MODIFIED:20190612T110244Z
UID:3360-1562835600-1562853600@cronullalife.com.au
SUMMARY:NAIDOC celebrations in Cronulla
DESCRIPTION:Join Cronulla’s community as it celebrates NAIDOC week – learn about the history\, culture and achievements of Aboriginal and Torres Strait Islander peoples.\n			\n			\n				\n				\n				\n				\n			\n				\n				\n				\n				\n				\n				\n				\n				\n				\n				\n				Thursday 11 July Gunnamatta Park\, Cronulla Official proceedings start at 10.00 until 10.30 am Enjoy the fun until 3 pm \nVisit art and craft stalls\, watch traditional Aboriginal dance performances and a spear throwing tournament. There will be jumping castles\, animal displays and much more. \nIncluding performances by the Col Hardy Band\, Evie J Willie and Djaadjawan Dancers. \nPlease give generously to the gold coin donation and enjoy the morning team and BBQ lunch. \n			\n			\n				\n				\n				\n				\n				\n				\n				\n				\n				\n				\n			\n			\n				\n				\n				\n				\n			\n				\n				\n				\n				\n				\n				\n				\n				\n				\n				\n				NAIDOC stands for National Aborigines and Islanders Day Observance Committee. Its origins can be traced to the emergence of Aboriginal groups in the 1920′s which sought to increase awareness in the wider community of the status and treatment of Aboriginal and Torres Strait Islander Australians.
URL:https://cronullalife.com.au/event/naidoc-celebrations-in-cronulla/
LOCATION:Gunnamatta Park\, Gunnamatta Park\, 39/41R Nicholson Parade\, Cronulla\, NSW\, 2230\, Australia
CATEGORIES:Children's Events,Family Friendly,Free Events
END:VEVENT
BEGIN:VEVENT
DTSTART;TZID=Australia/Sydney:20190629T193000
DTEND;TZID=Australia/Sydney:20190629T213000
DTSTAMP:20260426T024317
CREATED:20190612T111443Z
LAST-MODIFIED:20190612T111443Z
UID:3425-1561836600-1561843800@cronullalife.com.au
SUMMARY:Live Music: Black Star Trio
DESCRIPTION:Saturday 29 June\nClub Cronulla\n8.30 pm  – confirm with the Club
URL:https://cronullalife.com.au/event/live-music-black-star-trio/
LOCATION:Club Cronulla\, 41 Croydon Street\, Cronulla\, NSW\, Australia
END:VEVENT
BEGIN:VEVENT
DTSTART;TZID=Australia/Sydney:20190628T193000
DTEND;TZID=Australia/Sydney:20190628T213000
DTSTAMP:20260426T024317
CREATED:20190612T110732Z
LAST-MODIFIED:20190612T110732Z
UID:3419-1561750200-1561757400@cronullalife.com.au
SUMMARY:Live Music: AM2PM
DESCRIPTION:Friday 28th June\nClub Cronulla\n8.30 pm  – confirm with the Club
URL:https://cronullalife.com.au/event/live-music-am2pm/
LOCATION:Club Cronulla\, 41 Croydon Street\, Cronulla\, NSW\, Australia
CATEGORIES:Over 18s Only
END:VEVENT
BEGIN:VEVENT
DTSTART;TZID=Australia/Sydney:20190627T170000
DTEND;TZID=Australia/Sydney:20190627T190000
DTSTAMP:20260426T024317
CREATED:20190612T112135Z
LAST-MODIFIED:20190612T112305Z
UID:3427-1561654800-1561662000@cronullalife.com.au
SUMMARY:FREE Family Law Info Seminar
DESCRIPTION:Join this FREE Family Law information seminar\nHosted by Watkins Tapsell Solicitors – specialists in family and defacto laws\, parenting arrangements and re-location issues\, protecting your assets and division of property\, business and super.\nRegistration is essential via email events@watkinstapsell.com.au or call on 1800 021 600 \n 
URL:https://cronullalife.com.au/event/free-family-law-info-seminar/
LOCATION:Cronulla Leagues Club\, 461 Captain Cook Drive\, Woolooware\, NSW\, 2230\, Australia
CATEGORIES:Free Events
END:VEVENT
BEGIN:VEVENT
DTSTART;TZID=Australia/Sydney:20190622T193000
DTEND;TZID=Australia/Sydney:20190622T213000
DTSTAMP:20260426T024317
CREATED:20190612T111259Z
LAST-MODIFIED:20190612T111259Z
UID:3423-1561231800-1561239000@cronullalife.com.au
SUMMARY:Live Music: Bad 80s Band
DESCRIPTION:Saturday 22 June\nClub Cronulla\n8.30 pm  – confirm with the Club
URL:https://cronullalife.com.au/event/live-music-bad-80s-band/
END:VEVENT
BEGIN:VEVENT
DTSTART;TZID=Australia/Sydney:20190621T193000
DTEND;TZID=Australia/Sydney:20190621T213000
DTSTAMP:20260426T024317
CREATED:20190612T110615Z
LAST-MODIFIED:20190612T110910Z
UID:3417-1561145400-1561152600@cronullalife.com.au
SUMMARY:Live Music: Aimee Hannan Duo
DESCRIPTION:Friday 21 June\nClub Cronulla\n8.30 pm  – confirm with the Club \n 
URL:https://cronullalife.com.au/event/live-music-aimee-hannan-duo/
LOCATION:Club Cronulla\, 41 Croydon Street\, Cronulla\, NSW\, Australia
CATEGORIES:Over 18s Only
END:VEVENT
BEGIN:VEVENT
DTSTART;TZID=Australia/Sydney:20190615T193000
DTEND;TZID=Australia/Sydney:20190615T213000
DTSTAMP:20260426T024317
CREATED:20190612T111131Z
LAST-MODIFIED:20190612T111131Z
UID:3421-1560627000-1560634200@cronullalife.com.au
SUMMARY:Live Music: Acoustic Autograph
DESCRIPTION:Saturday 15 July\nClub Cronulla\n8.30 pm  – confirm with the Club
URL:https://cronullalife.com.au/event/live-music-acoustic-autograph/
LOCATION:Club Cronulla\, 41 Croydon Street\, Cronulla\, NSW\, Australia
END:VEVENT
BEGIN:VEVENT
DTSTART;TZID=Australia/Sydney:20190614T183000
DTEND;TZID=Australia/Sydney:20190614T210000
DTSTAMP:20260426T024317
CREATED:20190612T105337Z
LAST-MODIFIED:20190612T105337Z
UID:3406-1560537000-1560546000@cronullalife.com.au
SUMMARY:Live Music:  Hurray for Everything
DESCRIPTION:Friday 14 June\nClub Cronulla\n7.30 pm
URL:https://cronullalife.com.au/event/live-music-hurray-for-everything/
LOCATION:Club Cronulla\, 41 Croydon Street\, Cronulla\, NSW\, Australia
CATEGORIES:Over 18s Only
END:VEVENT
BEGIN:VEVENT
DTSTART;TZID=Australia/Sydney:20190504T081500
DTEND;TZID=Australia/Sydney:20190505T090000
DTSTAMP:20260426T024317
CREATED:20190408T110547Z
LAST-MODIFIED:20190408T110547Z
UID:3070-1556957700-1557046800@cronullalife.com.au
SUMMARY:Sutherland Shire Relay for Life
DESCRIPTION:Join the Sutherland Shire Relay for Life 2019 \nTaking place on the weekend of 4 May 2019 – join those wonderful people supporting this fantastic cause\, with the Cancer Council.  Join this 24 hour team fundraising event taking place at Don Lucas Reserve\, Cronulla. \nThere are many ways you can join and support.  Join for just and hour for for the whole 24 hours! \nClick here for all the details.
URL:https://cronullalife.com.au/event/sutherland-shire-relay-for-life/
LOCATION:Don Lucas Reserve\, Cronulla\, 1 Mitchell Road\, Cronulla\, NSW\, 2230\, Australia
ORGANIZER;CN="Renee Dean":MAILTO:Renee.Dean@nswcc.org.au
END:VEVENT
BEGIN:VEVENT
DTSTART;TZID=Australia/Sydney:20190419T070000
DTEND;TZID=Australia/Sydney:20190422T160000
DTSTAMP:20260426T024317
CREATED:20190408T105205Z
LAST-MODIFIED:20190408T105605Z
UID:3064-1555657200-1555948800@cronullalife.com.au
SUMMARY:Cronulla Easter Show
DESCRIPTION:Cronulla Easter Show\nCome and join the fun in Cronulla from Good Friday right though to Easter Monday.\nThe theme is Cirque du Soleil and there’s something for everyone from pony rides\, face painting\, fabulous market stalls\, great pop up food outlets\, farm animals to pet\, stilt walkers\, and of course show bags!\nRemember it’s free to come along and enjoy the fun!\n 
URL:https://cronullalife.com.au/event/cronulla-easter-show/
LOCATION:Cronulla Plaza plus Munro Park\, Cronulla Plaza\, Cronulla\, NSW\, 2230\, Australia
CATEGORIES:Children's Events,Family Friendly,Free Events
END:VEVENT
BEGIN:VEVENT
DTSTART;TZID=Australia/Sydney:20190411T100000
DTEND;TZID=Australia/Sydney:20190411T120000
DTSTAMP:20260426T024317
CREATED:20190408T104156Z
LAST-MODIFIED:20190408T105509Z
UID:3061-1554976800-1554984000@cronullalife.com.au
SUMMARY:Cronulla RSL Over 55s Club
DESCRIPTION:Cronulla RSL Over 55s Club\nJoin the gents at their regular monthly meeting: \n11.00\nGerrale Room\, Cronulla RSL \nMonthly meetings are held on the 2nd Thursday of the month.  Everyone Welcome!  \nContact the RSL for further details. \n 
URL:https://cronullalife.com.au/event/cronulla-rsl-over-55s-club/
LOCATION:Cronulla RSL\, 38 Gerrale Street\, Cronulla\, NSW\, 2230\, Australia
CATEGORIES:Free Events
END:VEVENT
BEGIN:VEVENT
DTSTART;TZID=Australia/Sydney:20190228T100000
DTEND;TZID=Australia/Sydney:20190228T190000
DTSTAMP:20260426T024317
CREATED:20190228T012326Z
LAST-MODIFIED:20190228T012326Z
UID:2594-1551348000-1551380400@cronullalife.com.au
SUMMARY:Day 1
DESCRIPTION:
URL:https://cronullalife.com.au/event/day-1/
LOCATION:Cronulla Beach\, Cronulla Park\, Cronulla\, NSW\, 2230\, Australia
CATEGORIES:Children's Events,Family Friendly,Free Events
END:VEVENT
BEGIN:VEVENT
DTSTART;TZID=Australia/Sydney:20190206T113000
DTEND;TZID=Australia/Sydney:20190206T123000
DTSTAMP:20260426T024317
CREATED:20190202T232449Z
LAST-MODIFIED:20190202T232449Z
UID:2517-1549452600-1549456200@cronullalife.com.au
SUMMARY:Carers Walking Group at Cronulla
DESCRIPTION:Join the Carers Walking Group and get the combined benefits of walking and social interaction – what a great opportunity to meet fellow Carers\nMeets at Dunningham Park\, Cronulla on Wednesday at 9.30 am\nFor more info call 02 9524 6292
URL:https://cronullalife.com.au/event/carers-walking-group-at-cronulla/
LOCATION:Dunningham Park\, Kingsway and Elouera Road\, Cronulla\, NSW\, 2230\, Australia
CATEGORIES:Free Events
END:VEVENT
BEGIN:VEVENT
DTSTART;TZID=Australia/Sydney:20190203T130000
DTEND;TZID=Australia/Sydney:20190203T150000
DTSTAMP:20260426T024317
CREATED:20190125T235706Z
LAST-MODIFIED:20190125T235706Z
UID:2462-1549198800-1549206000@cronullalife.com.au
SUMMARY:Cronulla Putt Putt & Wooden Boat Regatta
DESCRIPTION:Take a step back in time on Sunday 3 February and join in the fun of the Putt Putt and Wooden Boat Regatta. \nTaking place on the stunning Port Hacking\, whose clear waters and bushland setting\, provides the most beautiful backdrop for this trip down memory lane to the time when wooden boats were the order of the day. \n  \nWatch as the boats sail by popular public viewing sites where you can wave them on their way. \nThe Putt Putt Regatta will commence at 11.00 and route as follows (times are approximate \n11.00   Hungry Point\n11.25   Gunnamatta Bay\n11.35   The Royal Motor Yacht Club\, Cronulla\n11.40   Lugarno Avenue\n12.05   Burraneer Bay Marina\n12.15   Wally’s Whaf \nand finally at 12.30/1pm  Lilli Pilli Reserve. \nSome of the boats taking part date back to the early 1990s and remain on the Port Hacking since that time. \n \n  \n  \n  \n 
URL:https://cronullalife.com.au/event/cronulla-putt-putt-wooden-boat-regatta/
CATEGORIES:Family Friendly,Free Events
END:VEVENT
BEGIN:VEVENT
DTSTART;TZID=Australia/Sydney:20190203T120000
DTEND;TZID=Australia/Sydney:20190203T153000
DTSTAMP:20260426T024317
CREATED:20190130T063104Z
LAST-MODIFIED:20190130T063224Z
UID:2510-1549195200-1549207800@cronullalife.com.au
SUMMARY:Watch the Port Hacking Putters Regatta in Style
DESCRIPTION:Saturday 3 Feburary 10.30 am departure sharp !   Returning at approximately 1.30 pm Bookings are essential \n			\n			\n				\n				\n				\n				\n				\n				\n				\n				\n				\n				\n			\n			\n				\n				\n				\n				\n			\n				\n				\n				\n				\n				\n				\n				\n				\n				\n				\n				Watch all the fun of the Pork Hacking Putters Regatta from the historic Tom Thumb III.  Take a step back in time and enjoy the beautiful surrounds of the Port Hacking on a serene journey behind the flotilla of vintage timber boats and Putt Putts. \nGet the feel good factor by knowing you are supporting a local charity as all proceeds will be donated towards the volunteer work carried out by Marine Rescue NSW (Botany Port Hacking). \nJoin in the fun and win a prize aboard the Tom Thumb III – prizes will be award to the BEST PIRATE and other nautical outfits on board. \nIt’s BYO on the day – that includes all lunches\, snacks and drinks. \nContact Cronulla Ferries for more info.
URL:https://cronullalife.com.au/event/watch-the-port-hacking-putters-regatta-in-style/
LOCATION:Cronulla Wharf\, Public Wharf\, Tonkin Street\, Cronulla\, NSW\, 2230\, Australia
CATEGORIES:Children's Events,Family Friendly
ATTACH;FMTTYPE=image/png:https://cronullalife.com.au/wp-content/uploads/2019/01/Cronulla-Port-Hacking-regatta-.png
END:VEVENT
BEGIN:VEVENT
DTSTART;TZID=Australia/Sydney:20190203T113000
DTEND;TZID=Australia/Sydney:20190203T143000
DTSTAMP:20260426T024317
CREATED:20190123T051925Z
LAST-MODIFIED:20190124T071433Z
UID:2449-1549193400-1549204200@cronullalife.com.au
SUMMARY:Cronulla Surf Life Saving Club Shark Island Swim 2019
DESCRIPTION:Join the challenge of the Cronulla Surf Life Saving Club Shark Island Swim in 2019.   \nTaking place on Sunday 3 February 2019. \nYou have two options – the fun swim or for the serious swimmers the main 2.3km swim from South Cronulla beach out to Shark Island and back. \n9.30 am start – Cronulla Beach Fun Swim – just 1km \n10.30 am start – Cronulla Shark Island Swim – over 2.3km \nOr just join in the fun from the beach and cheer on the swimmers whether they are family\, friends or strangers!! \nGood luck to everyone \n 
URL:https://cronullalife.com.au/event/cronulla-surf-life-saving-club-shark-island-swim-2019/
LOCATION:Cronulla Beach\, Cronulla Park\, Cronulla\, NSW\, 2230\, Australia
CATEGORIES:Children's Events,Family Friendly
END:VEVENT
BEGIN:VEVENT
DTSTART;TZID=Australia/Sydney:20190127T180000
DTEND;TZID=Australia/Sydney:20190128T000000
DTSTAMP:20260426T024317
CREATED:20190120T024850Z
LAST-MODIFIED:20190120T030255Z
UID:2434-1548612000-1548633600@cronullalife.com.au
SUMMARY:Shire Vibes Cronulla
DESCRIPTION:Following on from Australia Day 2019 the action at Cronulla Beach continues with  \nShire Vibes Cronulla \nThe line up include \n4.00 pm  Alex Hurt5.00 pm  Evie J Willie5.45 pm  Tim Moxey6.30 pm  The Coldplay Show8.00 pm  Endless Summer Beach Party
URL:https://cronullalife.com.au/event/shire-vibes-cronulla/
LOCATION:Cronulla Beach\, Cronulla Park\, Cronulla\, NSW\, 2230\, Australia
CATEGORIES:Free Events
END:VEVENT
BEGIN:VEVENT
DTSTART;TZID=Australia/Sydney:20190126T103000
DTEND;TZID=Australia/Sydney:20190126T140000
DTSTAMP:20260426T024317
CREATED:20190114T065420Z
LAST-MODIFIED:20190114T070411Z
UID:2375-1548498600-1548511200@cronullalife.com.au
SUMMARY:North Cronulla Iron Person Australia 2019
DESCRIPTION:Get Australia Day 2019 in Cronulla off to a great start by joining the fun at North Cronulla beach for the 2019 Iron Person Classic. \nRegistration starts at 7.00 am \nEvents commence at 8.30 am \nEvents for everyone\, including separate boys and girls competitions. \nClub Enquiries can be directed to either Stuart Voigt on 0415 382 991 or Donna Hargreaves on 0403 335 625 \nSurf Club Branch enquiries can be made on 02 9019 0722 or via email: admin@surflifesavingsydney.com.au
URL:https://cronullalife.com.au/event/north-cronulla-iron-person-australia-2019/
CATEGORIES:Family Friendly
ATTACH;FMTTYPE=image/png:https://cronullalife.com.au/wp-content/uploads/2019/01/Australia-Day-at-Cronulla-2019.png
END:VEVENT
BEGIN:VEVENT
DTSTART;TZID=Australia/Sydney:20181130T210000
DTEND;TZID=Australia/Sydney:20181201T013000
DTSTAMP:20260426T024317
CREATED:20180927T012840Z
LAST-MODIFIED:20180927T012840Z
UID:2108-1543611600-1543627800@cronullalife.com.au
SUMMARY:ShireWomen Indulge Christmas Party Cronulla Library
DESCRIPTION:Jingle and Mingle – Prance and Dance! This is going to be a party to remember! Our Christmas Party this year will be THE FIRST event to be held in the newly renovated Soldiers on the Esplanade rooms at Cronulla RSL. Overlooking Cronulla Beach with a 3 course dinner\, premium drinks and a live band – Indulge with us and celebrate the year gone by! Bring your staff\, your friends…
URL:https://cronullalife.com.au/event/shirewomen-indulge-christmas-party-cronulla-library/
LOCATION:Cronulla Library\, Cronulla Central (entry via Croydon Street or Cronulla Mall)\, Cronulla\, Cronulla\, NSW\, 2230\, Australia
CATEGORIES:Children's Events,Family Friendly
END:VEVENT
BEGIN:VEVENT
DTSTART;TZID=Australia/Sydney:20181027T183000
DTEND;TZID=Australia/Sydney:20181027T210000
DTSTAMP:20260426T024317
CREATED:20180819T042055Z
LAST-MODIFIED:20180819T042401Z
UID:1731-1540665000-1540674000@cronullalife.com.au
SUMMARY:Light the Night - Leukaemia Foundation Lantern Walk
DESCRIPTION:Light the Night  Fundraising event for The Leukaemia Foundation.\nHelp Australia fight blood cancer.\nSaturday 27 October 2018 Meet at Dunningham Park\, Cronulla. \n\n  \nJoin together and bring light to Cronulla in a sea of glowing lanterns to help The Leukaemia Foundation fight the fight against blood cancer. The Foundation urgently needs funds to continue in their research of blood cancer.\nTake the opportunity to walk with those facing their own blood cancer journey\, and also recall memories of loved ones already lost. Register now for this event and collect your reserved lantern on the night at the event. \n\n\nThis event is suitable for all the family and there will be entertainment and food available. \n\n\n\nTime line for the evening :\n\n\n\n5:30pm  Collect your Lantern and entertainment commences\n\n\n7:00pm  Lantern lighting ceremony\n\n\n7:30pm  The Light the Night walk commences\n\n\n\n8:00pm  The official close of the evening
URL:https://cronullalife.com.au/event/light-the-night-leukaemia-foundation-walk/
LOCATION:Dunningham Park\, Kingsway and Elouera Road\, Cronulla\, NSW\, 2230\, Australia
END:VEVENT
END:VCALENDAR