BEGIN:VCALENDAR
VERSION:2.0
PRODID:-//Cronulla Life - ECPv6.15.20//NONSGML v1.0//EN
CALSCALE:GREGORIAN
METHOD:PUBLISH
X-WR-CALNAME:Cronulla Life
X-ORIGINAL-URL:https://cronullalife.com.au
X-WR-CALDESC:Events for Cronulla Life
REFRESH-INTERVAL;VALUE=DURATION:PT1H
X-Robots-Tag:noindex
X-PUBLISHED-TTL:PT1H
BEGIN:VTIMEZONE
TZID:Australia/Sydney
BEGIN:STANDARD
TZOFFSETFROM:+1100
TZOFFSETTO:+1000
TZNAME:AEST
DTSTART:20200404T160000
END:STANDARD
BEGIN:DAYLIGHT
TZOFFSETFROM:+1000
TZOFFSETTO:+1100
TZNAME:AEDT
DTSTART:20201003T160000
END:DAYLIGHT
BEGIN:STANDARD
TZOFFSETFROM:+1100
TZOFFSETTO:+1000
TZNAME:AEST
DTSTART:20210403T160000
END:STANDARD
BEGIN:DAYLIGHT
TZOFFSETFROM:+1000
TZOFFSETTO:+1100
TZNAME:AEDT
DTSTART:20211002T160000
END:DAYLIGHT
BEGIN:STANDARD
TZOFFSETFROM:+1100
TZOFFSETTO:+1000
TZNAME:AEST
DTSTART:20220402T160000
END:STANDARD
BEGIN:DAYLIGHT
TZOFFSETFROM:+1000
TZOFFSETTO:+1100
TZNAME:AEDT
DTSTART:20221001T160000
END:DAYLIGHT
BEGIN:STANDARD
TZOFFSETFROM:+1100
TZOFFSETTO:+1000
TZNAME:AEST
DTSTART:20230401T160000
END:STANDARD
BEGIN:DAYLIGHT
TZOFFSETFROM:+1000
TZOFFSETTO:+1100
TZNAME:AEDT
DTSTART:20230930T160000
END:DAYLIGHT
END:VTIMEZONE
BEGIN:VEVENT
DTSTART;TZID=Australia/Sydney:20211109T190000
DTEND;TZID=Australia/Sydney:20211109T220000
DTSTAMP:20260425T230840
CREATED:20211012T074850Z
LAST-MODIFIED:20211012T074850Z
UID:6254-1636484400-1636495200@cronullalife.com.au
SUMMARY:Comedy Club at Northies Cronulla
DESCRIPTION:Northies Comedy Club featuring hilarious The Stevenson Experience\nGet out\, get happy\, brush off the blue and join the fun with Cronulla’s funniest night out. \n 
URL:https://cronullalife.com.au/event/comedy-club-at-northies-cronulla/
LOCATION:Northies\, Cronulla\, Kingsway & Elouera Road\, Cronulla\, NSW\, 2230
CATEGORIES:Cronulla,Over 18s Only,What's On
ATTACH;FMTTYPE=image/jpeg:https://cronullalife.com.au/wp-content/uploads/2021/10/Comedy-in-Cronulla-at-Northies.jpeg
END:VEVENT
BEGIN:VEVENT
DTSTART;TZID=Australia/Sydney:20211110T180000
DTEND;TZID=Australia/Sydney:20211110T210000
DTSTAMP:20260425T230840
CREATED:20210821T022208Z
LAST-MODIFIED:20210821T022208Z
UID:6156-1636567200-1636578000@cronullalife.com.au
SUMMARY:Art Workshop Alcohol Ink at Pilgrims Cronulla
DESCRIPTION:Let’s get back out there!  Enjoy an evening or art\, bubbles and tasting plates.\nRun and demonstrated by the lovely Lenore ALCOHOL INK WORKSHOPS at Pilgrims\, Cronulla\nLearn how to use wonderful fluid inks to create your very own artworks. No experience is necessary and you don’t need to be ‘creative’. \n\nMeet new people\, enjoy a few laughs!\n\nThe cost is $165 per person and includes fabulous vegetarian tasting plate and a glass of bubbles.\n\nBookings Lenore 0447 68 3344\nwww.instagram.com/graphiq_design 
URL:https://cronullalife.com.au/event/art-workshop-alcohol-ink-at-pilgrims-cronulla/
LOCATION:Pilgrims Vegetarian Cafe\, 97 Gerrale Street\, Cronulla\, NSW\, 2230\, Australia
CATEGORIES:Cronulla,Over 18s Only,What's On
ATTACH;FMTTYPE=image/jpeg:https://cronullalife.com.au/wp-content/uploads/2021/08/Art-Workshops-Alcohol-Ink-Pilgrims-Cronulla.jpeg
END:VEVENT
BEGIN:VEVENT
DTSTART;TZID=Australia/Sydney:20211112T183000
DTEND;TZID=Australia/Sydney:20211112T213000
DTSTAMP:20260425T230840
CREATED:20211021T075226Z
LAST-MODIFIED:20211021T075226Z
UID:6266-1636741800-1636752600@cronullalife.com.au
SUMMARY:Zimzala Cronulla: Mexican Fiesta Night
DESCRIPTION:Mexican night in Cronulla ¡Arriba\, Arriba! ¡Ándale\, Ándale!\n\nCome on down and enjoy a Mexican Fiesta Night at fabulous Zimzala with their 4 course set menu including a Margarita on arrival.\n\nBook HERE \n\nSet Menu Includes: \nMargarita on Arrival Corn Chips with Salsa Guacamole and Chili Queso for the Table Entrée Grilled Prawn and Bean Quesadilla with Cilantro Creme Fraiche Main Crispy Pork Belly on Sweet Potato Puree with Jalapeno Citrus Salsa Dessert Churros with Chocolate Dipping Sauce – Yummy!
URL:https://cronullalife.com.au/event/zimzala-cronulla-mexican-fiesta-night/
LOCATION:Zimzala Restaurant\, The Esplanade\, Cronulla\, NSW\, 2230\, Australia
CATEGORIES:Cronulla,Over 18s Only,What's On
END:VEVENT
BEGIN:VEVENT
DTSTART;TZID=Australia/Sydney:20211120T120000
DTEND;TZID=Australia/Sydney:20211120T170000
DTSTAMP:20260425T230840
CREATED:20210821T023913Z
LAST-MODIFIED:20210918T230159Z
UID:6160-1637409600-1637427600@cronullalife.com.au
SUMMARY:CANCELLED: Christmas for the Kids - Fundraiser at Rydges Cronulla
DESCRIPTION:Unfortunately this event has been cancelled. \nJoin this fabulous fundraiser for children at the lovely Rydges Hotel Cronulla. \nEnjoy some champagne whilst you do a little shopping – including beauty and pamper items\, candles\, jewellery\, lingerie\, OMG Donut and much more. \nFunds raised will go towards the Children’s War at Sutherland hospital\, for Activity Bags and Christmas presents. \nArrive by 11.45am\nMeal will Start from 12.30pm\nDay ends at 5pm \nthere will be raffle tickets available from 12 pm. \nTickets costs $70 and include your entree\, mains\, a glass of champagne and a small gift. There will be lucky door prizes too. \nTo buy your ticket contact Janelle McClellan\, and put funds to\nBSB 012-270\nACC. 3958-24249\nRef- your first and last name
URL:https://cronullalife.com.au/event/christmas-for-the-kids-fundraiser-at-rydges-cronulla/
LOCATION:Rydges Cronulla\, 20-26 Kingsway\, Cronulla\, NSW\, 2230\, Australia
CATEGORIES:Cronulla,Family Friendly,What's On
ATTACH;FMTTYPE=image/jpeg:https://cronullalife.com.au/wp-content/uploads/2020/11/how-to-decorate-your-house-for-Christmas.jpeg
END:VEVENT
BEGIN:VEVENT
DTSTART;TZID=Australia/Sydney:20211203T173000
DTEND;TZID=Australia/Sydney:20211203T200000
DTSTAMP:20260425T230840
CREATED:20211111T093631Z
LAST-MODIFIED:20211111T093631Z
UID:6279-1638552600-1638561600@cronullalife.com.au
SUMMARY:Cronulla Mall Christmas Lights 2021
DESCRIPTION:Cronulla Christmas Lights 2021 – Friday 3 December @ Cronulla Mall \n\n\n\n\n\n\n\nCome down to Cronulla Mall and join the local Chamber of Commerce – support your local community and local business to bring some Christmas Cheer to life! \n\n\nEnjoy a concert of carols lead by some of Cronulla’s local churches\nEnjoy local guest entertainers\nOfficial “Turning of the Lights”\n\n\nRoving carols will also feature in Cronulla between 2pm and 4pm on Saturdays in December \n\nVOTE VOTE for the best and your favourite window festive displays and awnings – prizes to be won! 
URL:https://cronullalife.com.au/event/cronulla-mall-christmas-lights-2021/
LOCATION:Cronulla\, Cronulla\, New South Wales\, 2230\, Australia
CATEGORIES:Children's Events,Cronulla,Family Friendly,Free Events,What's On
ATTACH;FMTTYPE=image/jpeg:https://cronullalife.com.au/wp-content/uploads/2019/07/Christmas-in-July-in-Cronulla.jpeg
END:VEVENT
BEGIN:VEVENT
DTSTART;TZID=Australia/Sydney:20211208T180000
DTEND;TZID=Australia/Sydney:20211208T210000
DTSTAMP:20260425T230840
CREATED:20211012T205959Z
LAST-MODIFIED:20211012T210315Z
UID:6257-1638986400-1638997200@cronullalife.com.au
SUMMARY:Art Workshop Alcohol Ink at Pilgrims Cronulla
DESCRIPTION:Enjoy an evening or art\, bubbles and delicious food at Pilgrims Cronulla\nRun and demonstrated by the lovely Lenore ALCOHOL INK WORKSHOPS\nLearn how to use wonderful fluid inks to create your very own artworks. No experience is necessary and you don’t need to be ‘creative’.  Take your artworks home with you. \n\nMeet new people\, enjoy a few laughs!\n\nThe cost includes a fabulous vegetarian tasting plate and a glass of bubbles.  Check with price and make your booking with Lenore on 0447 683 344. \nwww.instagram.com/graphiq_design 
URL:https://cronullalife.com.au/event/art-workshop-alcohol-ink-at-pilgrims-cronulla-2-2/
LOCATION:Pilgrims Vegetarian Cafe\, 97 Gerrale Street\, Cronulla\, NSW\, 2230\, Australia
CATEGORIES:Cronulla,Over 18s Only,What's On
ATTACH;FMTTYPE=image/jpeg:https://cronullalife.com.au/wp-content/uploads/2021/08/Art-Workshops-Alcohol-Ink-Pilgrims-Cronulla.jpeg
END:VEVENT
BEGIN:VEVENT
DTSTART;TZID=Australia/Sydney:20211231T173000
DTEND;TZID=Australia/Sydney:20211231T213000
DTSTAMP:20260425T230840
CREATED:20211021T080103Z
LAST-MODIFIED:20211021T080103Z
UID:6268-1640971800-1640986200@cronullalife.com.au
SUMMARY:New Years Eve at Zimzala Cronulla
DESCRIPTION:Celebrate New Years Eve at Zimzala Cronulla\nFarewell 2021 – Come On In 2022!! \nFeast on a Fabulous Four Course Menu\nJoin us from 5.30 pm until we close at 9.30pm\nJust $130 per person for a stunning menu  \n\n\n\n\n\n\n\nBook HERE before it’s sold out
URL:https://cronullalife.com.au/event/new-years-eve-at-zimzala-cronulla/
LOCATION:Zimzala Restaurant\, The Esplanade\, Cronulla\, NSW\, 2230\, Australia
CATEGORIES:Over 18s Only,What's On
ATTACH;FMTTYPE=image/jpeg:https://cronullalife.com.au/wp-content/uploads/2020/01/Cronulla-Australia-Day-Fireworks.jpeg
END:VEVENT
BEGIN:VEVENT
DTSTART;TZID=Australia/Sydney:20220112T180000
DTEND;TZID=Australia/Sydney:20220112T210000
DTSTAMP:20260425T230840
CREATED:20210918T225936Z
LAST-MODIFIED:20210918T225936Z
UID:6202-1642010400-1642021200@cronullalife.com.au
SUMMARY:Art Workshop Alcohol Ink at Pilgrims Cronulla 12 Jan 22
DESCRIPTION:Get 2022 off to a creative start!  Enjoy an evening or art\, bubbles and tasting plates.\nRun and demonstrated by the lovely Lenore ALCOHOL INK WORKSHOPS at Pilgrims\, Cronulla\nLearn how to use wonderful fluid inks to create your very own artworks. No experience is necessary and you don’t need to be ‘creative’. \n\nMeet new people\, enjoy a few laughs!\n\nThe cost includes a fabulous vegetarian tasting plate and a glass of bubbles.  Check with price and make your booking with Lenore on 0447 683 344. \nwww.instagram.com/graphiq_design 
URL:https://cronullalife.com.au/event/art-workshop-alcohol-ink-at-pilgrims-cronulla-2/
LOCATION:Pilgrims Vegetarian Cafe\, 97 Gerrale Street\, Cronulla\, NSW\, 2230\, Australia
CATEGORIES:Cronulla,Over 18s Only,What's On
ATTACH;FMTTYPE=image/jpeg:https://cronullalife.com.au/wp-content/uploads/2021/08/Art-Workshops-Alcohol-Ink-Pilgrims-Cronulla.jpeg
END:VEVENT
BEGIN:VEVENT
DTSTART;TZID=Australia/Sydney:20220205T180000
DTEND;TZID=Australia/Sydney:20220205T220000
DTSTAMP:20260425T230840
CREATED:20211012T211835Z
LAST-MODIFIED:20211012T211835Z
UID:6259-1644084000-1644098400@cronullalife.com.au
SUMMARY:Who's That Girl? Eurythmics & Annie Lennox Tribute Show - Brass Monkey\, Cronulla
DESCRIPTION:Visit Brass Monkey for live music in Cronulla and the fantastic tribute to the Eurythmics and Annie Lennox.  They had a sell out show last year and return to wow the crowds again in February. \nGet your tickets soon = they will sell out fast.  Early and late shows available.\n\nCheck out their reviews here: https://www.facebook.com/whosthatgirleurythmicsan…/reviews\nStanding Tickets from $38 / Dinner Tickets from $84.70   click HERE to book \n  \n 
URL:https://cronullalife.com.au/event/whos-that-girl-eurythmics-annie-lennox-tribute-show-brass-monkey-cronulla/
LOCATION:The Brass Monkey\, 115a Cronulla Street\, Cronulla\, NSW\, 2230\, Australia
CATEGORIES:Cronulla,Live Music,Over 18s Only,What's On
ATTACH;FMTTYPE=image/jpeg:https://cronullalife.com.au/wp-content/uploads/2021/10/Brass-Monkey-Cronulla-Annie-Lennox-Tribute.jpeg
END:VEVENT
BEGIN:VEVENT
DTSTART;TZID=Australia/Sydney:20220717T073000
DTEND;TZID=Australia/Sydney:20220717T123000
DTSTAMP:20260425T230840
CREATED:20210918T231556Z
LAST-MODIFIED:20210918T231556Z
UID:6203-1658043000-1658061000@cronullalife.com.au
SUMMARY:Tradies Sutherland 2 Surf 2022
DESCRIPTION:Join this 11k FUN RUN and WALK from Sutherland to Cronulla –  raise money and win prizes.  \n2022 sees Tradies Sutherland 2 Surf celebrate its 50 Year anniversary.   Join in the celebration and help those in need at the same time.   The course is from Sutherland to Wanda Surf Life Saving Club in Cronulla. \nYou can run on your own or join as a team. There are medals for all those who cross the line which cash prized for first to third places for both male and females.  Under 16s will be entered into the Youth category (16 and under). \nFor the serious runners among you the 200 fastest seeded runners will be placed into the Brooks Pro-Sprint category. \nTeams can choose from three categories;  Gym\, Corporate or Runners team challenge.  the winning teams will be presented with a plaque to celebrate their success. \nCome on down and join the fun and support the work of Wanda Surf Life Saving Club to help save lives and protect this iconic beach in Cronulla. \nMore info at  s2s@wandaslsc.com.au  or (02) 9523 4343 \nGOOD LUCK! \n 
URL:https://cronullalife.com.au/event/tradies-sutherland-2-surf-2022/
LOCATION:Wanda Beach\, Cronulla\, Australia
CATEGORIES:Cronulla,Family Friendly,Wellbeing,What's On
ATTACH;FMTTYPE=image/jpeg:https://cronullalife.com.au/wp-content/uploads/2021/09/Sutherland-to-Surf-Cronulla-fun-run.jpeg
END:VEVENT
END:VCALENDAR