BEGIN:VCALENDAR
VERSION:2.0
PRODID:-//Cronulla Life - ECPv6.15.20//NONSGML v1.0//EN
CALSCALE:GREGORIAN
METHOD:PUBLISH
X-ORIGINAL-URL:https://cronullalife.com.au
X-WR-CALDESC:Events for Cronulla Life
REFRESH-INTERVAL;VALUE=DURATION:PT1H
X-Robots-Tag:noindex
X-PUBLISHED-TTL:PT1H
BEGIN:VTIMEZONE
TZID:Australia/Sydney
BEGIN:STANDARD
TZOFFSETFROM:+1100
TZOFFSETTO:+1000
TZNAME:AEST
DTSTART:20210403T160000
END:STANDARD
BEGIN:DAYLIGHT
TZOFFSETFROM:+1000
TZOFFSETTO:+1100
TZNAME:AEDT
DTSTART:20211002T160000
END:DAYLIGHT
BEGIN:STANDARD
TZOFFSETFROM:+1100
TZOFFSETTO:+1000
TZNAME:AEST
DTSTART:20220402T160000
END:STANDARD
BEGIN:DAYLIGHT
TZOFFSETFROM:+1000
TZOFFSETTO:+1100
TZNAME:AEDT
DTSTART:20221001T160000
END:DAYLIGHT
BEGIN:STANDARD
TZOFFSETFROM:+1100
TZOFFSETTO:+1000
TZNAME:AEST
DTSTART:20230401T160000
END:STANDARD
BEGIN:DAYLIGHT
TZOFFSETFROM:+1000
TZOFFSETTO:+1100
TZNAME:AEDT
DTSTART:20230930T160000
END:DAYLIGHT
END:VTIMEZONE
BEGIN:VEVENT
DTSTART;TZID=Australia/Sydney:20220112T180000
DTEND;TZID=Australia/Sydney:20220112T210000
DTSTAMP:20260425T212114
CREATED:20210918T225936Z
LAST-MODIFIED:20210918T225936Z
UID:6202-1642010400-1642021200@cronullalife.com.au
SUMMARY:Art Workshop Alcohol Ink at Pilgrims Cronulla 12 Jan 22
DESCRIPTION:Get 2022 off to a creative start!  Enjoy an evening or art\, bubbles and tasting plates.\nRun and demonstrated by the lovely Lenore ALCOHOL INK WORKSHOPS at Pilgrims\, Cronulla\nLearn how to use wonderful fluid inks to create your very own artworks. No experience is necessary and you don’t need to be ‘creative’. \n\nMeet new people\, enjoy a few laughs!\n\nThe cost includes a fabulous vegetarian tasting plate and a glass of bubbles.  Check with price and make your booking with Lenore on 0447 683 344. \nwww.instagram.com/graphiq_design 
URL:https://cronullalife.com.au/event/art-workshop-alcohol-ink-at-pilgrims-cronulla-2/
LOCATION:Pilgrims Vegetarian Cafe\, 97 Gerrale Street\, Cronulla\, NSW\, 2230\, Australia
CATEGORIES:Cronulla,Over 18s Only,What's On
ATTACH;FMTTYPE=image/jpeg:https://cronullalife.com.au/wp-content/uploads/2021/08/Art-Workshops-Alcohol-Ink-Pilgrims-Cronulla.jpeg
END:VEVENT
END:VCALENDAR