BEGIN:VCALENDAR
VERSION:2.0
PRODID:-//Cronulla Life - ECPv6.15.20//NONSGML v1.0//EN
CALSCALE:GREGORIAN
METHOD:PUBLISH
X-ORIGINAL-URL:https://cronullalife.com.au
X-WR-CALDESC:Events for Cronulla Life
REFRESH-INTERVAL;VALUE=DURATION:PT1H
X-Robots-Tag:noindex
X-PUBLISHED-TTL:PT1H
BEGIN:VTIMEZONE
TZID:Australia/Sydney
BEGIN:STANDARD
TZOFFSETFROM:+1100
TZOFFSETTO:+1000
TZNAME:AEST
DTSTART:20200404T160000
END:STANDARD
BEGIN:DAYLIGHT
TZOFFSETFROM:+1000
TZOFFSETTO:+1100
TZNAME:AEDT
DTSTART:20201003T160000
END:DAYLIGHT
BEGIN:STANDARD
TZOFFSETFROM:+1100
TZOFFSETTO:+1000
TZNAME:AEST
DTSTART:20210403T160000
END:STANDARD
BEGIN:DAYLIGHT
TZOFFSETFROM:+1000
TZOFFSETTO:+1100
TZNAME:AEDT
DTSTART:20211002T160000
END:DAYLIGHT
BEGIN:STANDARD
TZOFFSETFROM:+1100
TZOFFSETTO:+1000
TZNAME:AEST
DTSTART:20220402T160000
END:STANDARD
BEGIN:DAYLIGHT
TZOFFSETFROM:+1000
TZOFFSETTO:+1100
TZNAME:AEDT
DTSTART:20221001T160000
END:DAYLIGHT
END:VTIMEZONE
BEGIN:VEVENT
DTSTART;TZID=Australia/Sydney:20210903T193000
DTEND;TZID=Australia/Sydney:20210903T210000
DTSTAMP:20260425T132537
CREATED:20210821T024640Z
LAST-MODIFIED:20210821T024640Z
UID:6161-1630697400-1630702800@cronullalife.com.au
SUMMARY:Exploring Life in Jesus - Establish Church Cronulla
DESCRIPTION:Join Establish Church Cronulla for their 5 week series.\n\nDuring a pandemic we question many of our foundations about life. We ask questions about our meaning\, purpose\, suffering and if there is more to life. At Establish we believe that Jesus gives credible\, liveable answers to these questions and want to invite you to explore life in Jesus Online from the comfort of your own home starting 27th Aug.\n\nWeek one (3/9): What is the life we were made for?\nWeek two: (10/9) Can I trust the Bible to show me life?\nWeek three (17/9): What’s gone wrong with the world?\nWeek four (24/9): Why do we need forgiveness anyway?\nWeek five (01/10): What does this mean for me?
URL:https://cronullalife.com.au/event/exploring-life-in-jesus-establish-church-cronulla/
LOCATION:New South Wales
ATTACH;FMTTYPE=image/jpeg:https://cronullalife.com.au/wp-content/uploads/2021/08/Establish-Church-Cronulla.jpeg
END:VEVENT
BEGIN:VEVENT
DTSTART;VALUE=DATE:20210920
DTEND;VALUE=DATE:20211002
DTSTAMP:20260425T132537
CREATED:20210921T224153Z
LAST-MODIFIED:20210921T224153Z
UID:6239-1632096000-1633132799@cronullalife.com.au
SUMMARY:Free Virtual School Holiday Activities Cronulla
DESCRIPTION:Looking for school holiday activities in Cronulla?    \nYes the school holidays are looming and with lockdown still operating it’s difficult to keep everyone busy and active.\nSutherland Shire Council are running Virtual events which are free to attend.   Just log into Zoom meetup up and there’s something each day \n\n\n\n\n\n\n\n\n\n\n Monday – Workout with Claire 3pm\n Tuesday – Dance with Lana 11.15 am\n Wednesday – Trivia with Tash 3pm\n Thursday – Song writing with Deklan 3pm\n Friday – Film making on your phone with Dave 4.30pm \nHere’s the link:   https://us02web.zoom.us/j/3527636418…\n\n\nHere’s the meeting ID: 352 763 6418\nand the passcode: youth\n\n\n\n\n\n\n\n\n\n\n\n\n\nIf you have any questions or need more help please contact Holly McCreery on  hmccreery@ssc.nsw.gov.au or 9710 0381
URL:https://cronullalife.com.au/event/free-virtual-school-holiday-activities-cronulla/
LOCATION:New South Wales
CATEGORIES:Children's Events,Cronulla,Family Friendly,Free Events,Wellbeing
ATTACH;FMTTYPE=image/jpeg:https://cronullalife.com.au/wp-content/uploads/2021/09/Free-school-activities-Cronulla.jpeg
END:VEVENT
BEGIN:VEVENT
DTSTART;TZID=Australia/Sydney:20210923T193000
DTEND;TZID=Australia/Sydney:20210923T210000
DTSTAMP:20260425T132537
CREATED:20210918T232344Z
LAST-MODIFIED:20210918T232344Z
UID:6206-1632425400-1632430800@cronullalife.com.au
SUMMARY:Ecstatic Movement Dance in Cronulla
DESCRIPTION:Express yourself through dance in Cronulla\nEcstatic Movement Sydney is a style of free-flow dance.  Anyone can join in regardless of your size\, your shape\, your back ground or your dance experience. \nCome along to move your body and enjoy the power of expressing yourself through dance. \nRunning weekly on Thursdays from 23 September through to 23 December. \nCall 0408 860 747 for more info or email on Ecstaticmovementsydney@gmail.com \nWe look forward to seeing you.
URL:https://cronullalife.com.au/event/ecstatic-movement-dance-in-cronulla/
LOCATION:1a Saint Andrews Place\, 1a Saint Andrews Place\, Cronulla\, NSW\, 2230\, Australia
CATEGORIES:Cronulla,Wellbeing,What's On
ATTACH;FMTTYPE=image/jpeg:https://cronullalife.com.au/wp-content/uploads/2021/09/Ecstatic-Movement-Dance-Cronulla.jpeg
END:VEVENT
BEGIN:VEVENT
DTSTART;TZID=Australia/Sydney:20210925T063000
DTEND;TZID=Australia/Sydney:20210925T070000
DTSTAMP:20260425T132537
CREATED:20210918T233134Z
LAST-MODIFIED:20210918T233605Z
UID:6222-1632551400-1632553200@cronullalife.com.au
SUMMARY:Free Meditation on Wanda Beach\, Cronulla
DESCRIPTION:Come and join these fabulous free meditation session at Wanda beach in Cronulla on Saturday mornings.\nThese community based sessions are unlike anything you’ve experienced before;   an upbeat environment\, revives and refreshes your mindset.  Inclusive\, inviting and positive.  \nJoin us each Saturday for 20 minutes to kick start your weekend in a beautiful natural setting and escape the noise in your life.  \nContact Jason for more info: jason@meditationformen.com.au
URL:https://cronullalife.com.au/event/free-meditation-on-wanda-beach-cronulla/
LOCATION:Wanda Beach\, Cronulla\, Australia
CATEGORIES:Cronulla,Family Friendly,Wellbeing,What's On
ATTACH;FMTTYPE=image/jpeg:https://cronullalife.com.au/wp-content/uploads/2021/09/Meditation-on-Cronulla-Beach.jpeg
END:VEVENT
END:VCALENDAR