BEGIN:VCALENDAR
VERSION:2.0
PRODID:-//Cronulla Life - ECPv6.15.20//NONSGML v1.0//EN
CALSCALE:GREGORIAN
METHOD:PUBLISH
X-ORIGINAL-URL:https://cronullalife.com.au
X-WR-CALDESC:Events for Cronulla Life
REFRESH-INTERVAL;VALUE=DURATION:PT1H
X-Robots-Tag:noindex
X-PUBLISHED-TTL:PT1H
BEGIN:VTIMEZONE
TZID:Australia/Sydney
BEGIN:STANDARD
TZOFFSETFROM:+1100
TZOFFSETTO:+1000
TZNAME:AEST
DTSTART:20200404T160000
END:STANDARD
BEGIN:DAYLIGHT
TZOFFSETFROM:+1000
TZOFFSETTO:+1100
TZNAME:AEDT
DTSTART:20201003T160000
END:DAYLIGHT
BEGIN:STANDARD
TZOFFSETFROM:+1100
TZOFFSETTO:+1000
TZNAME:AEST
DTSTART:20210403T160000
END:STANDARD
BEGIN:DAYLIGHT
TZOFFSETFROM:+1000
TZOFFSETTO:+1100
TZNAME:AEDT
DTSTART:20211002T160000
END:DAYLIGHT
BEGIN:STANDARD
TZOFFSETFROM:+1100
TZOFFSETTO:+1000
TZNAME:AEST
DTSTART:20220402T160000
END:STANDARD
BEGIN:DAYLIGHT
TZOFFSETFROM:+1000
TZOFFSETTO:+1100
TZNAME:AEDT
DTSTART:20221001T160000
END:DAYLIGHT
END:VTIMEZONE
BEGIN:VEVENT
DTSTART;TZID=Australia/Sydney:20210819T183000
DTEND;TZID=Australia/Sydney:20210819T190000
DTSTAMP:20260425T132151
CREATED:20210821T022818Z
LAST-MODIFIED:20210821T022818Z
UID:6158-1629397800-1629399600@cronullalife.com.au
SUMMARY:Virtual Mega Raffle - Cronulla RSL
DESCRIPTION:Join the Virtual Beach-Side Mega Raffle run by Cronulla RSL\nBe covid safe and join live from the comfort of your home – every Thursday from 6.30pm on Facebook
URL:https://cronullalife.com.au/event/virtual-mega-raffle-cronulla-rsl/
LOCATION:Cronulla RSL\, 38 Gerrale Street\, Cronulla\, NSW\, 2230\, Australia
CATEGORIES:Cronulla
ATTACH;FMTTYPE=image/jpeg:https://cronullalife.com.au/wp-content/uploads/2021/08/Cronulla-RSL-Virtual-Raffle.jpeg
END:VEVENT
END:VCALENDAR