BEGIN:VCALENDAR
VERSION:2.0
PRODID:-//Cronulla Life - ECPv6.15.20//NONSGML v1.0//EN
CALSCALE:GREGORIAN
METHOD:PUBLISH
X-ORIGINAL-URL:https://cronullalife.com.au
X-WR-CALDESC:Events for Cronulla Life
REFRESH-INTERVAL;VALUE=DURATION:PT1H
X-Robots-Tag:noindex
X-PUBLISHED-TTL:PT1H
BEGIN:VTIMEZONE
TZID:Australia/Sydney
BEGIN:STANDARD
TZOFFSETFROM:+1100
TZOFFSETTO:+1000
TZNAME:AEST
DTSTART:20200404T160000
END:STANDARD
BEGIN:DAYLIGHT
TZOFFSETFROM:+1000
TZOFFSETTO:+1100
TZNAME:AEDT
DTSTART:20201003T160000
END:DAYLIGHT
BEGIN:STANDARD
TZOFFSETFROM:+1100
TZOFFSETTO:+1000
TZNAME:AEST
DTSTART:20210403T160000
END:STANDARD
BEGIN:DAYLIGHT
TZOFFSETFROM:+1000
TZOFFSETTO:+1100
TZNAME:AEDT
DTSTART:20211002T160000
END:DAYLIGHT
BEGIN:STANDARD
TZOFFSETFROM:+1100
TZOFFSETTO:+1000
TZNAME:AEST
DTSTART:20220402T160000
END:STANDARD
BEGIN:DAYLIGHT
TZOFFSETFROM:+1000
TZOFFSETTO:+1100
TZNAME:AEDT
DTSTART:20221001T160000
END:DAYLIGHT
END:VTIMEZONE
BEGIN:VEVENT
DTSTART;TZID=Australia/Sydney:20210618T190000
DTEND;TZID=Australia/Sydney:20210618T210000
DTSTAMP:20260425T101504
CREATED:20210522T072027Z
LAST-MODIFIED:20210522T072027Z
UID:6132-1624042800-1624050000@cronullalife.com.au
SUMMARY:St Hugo Wine Event at Cronulla RSL
DESCRIPTION:Enjoy and evening of fine food and wine pairings hosted by St Hugo Wine at Cronulla RSL.\n\nJoin their Ambassador Katherine Candy as she takes you on a journey through fine wines and culinary delights.  \n\nSample this special 4 course menu\, especially designed to pair with St Hugo’s finest wine range. \n\n\nSupport this Barossa Valley winery – one of Australia premier wine regions.\n\n\n\n\n\nAnyone can attend with prices at $85 for Cronulla RSL members and $95 for visitors.\n\n\n\n\n\n\n\n\nBookings are essential – https://bit.ly/3vbBLCt
URL:https://cronullalife.com.au/event/st-hugo-wine-event-at-cronulla-rsl/
LOCATION:Cronulla RSL\, 38 Gerrale Street\, Cronulla\, NSW\, 2230\, Australia
CATEGORIES:Cronulla,Over 18s Only,What's On
END:VEVENT
END:VCALENDAR