BEGIN:VCALENDAR
VERSION:2.0
PRODID:-//Cronulla Life - ECPv6.15.20//NONSGML v1.0//EN
CALSCALE:GREGORIAN
METHOD:PUBLISH
X-ORIGINAL-URL:https://cronullalife.com.au
X-WR-CALDESC:Events for Cronulla Life
REFRESH-INTERVAL;VALUE=DURATION:PT1H
X-Robots-Tag:noindex
X-PUBLISHED-TTL:PT1H
BEGIN:VTIMEZONE
TZID:Australia/Sydney
BEGIN:STANDARD
TZOFFSETFROM:+1100
TZOFFSETTO:+1000
TZNAME:AEST
DTSTART:20200404T160000
END:STANDARD
BEGIN:DAYLIGHT
TZOFFSETFROM:+1000
TZOFFSETTO:+1100
TZNAME:AEDT
DTSTART:20201003T160000
END:DAYLIGHT
BEGIN:STANDARD
TZOFFSETFROM:+1100
TZOFFSETTO:+1000
TZNAME:AEST
DTSTART:20210403T160000
END:STANDARD
BEGIN:DAYLIGHT
TZOFFSETFROM:+1000
TZOFFSETTO:+1100
TZNAME:AEDT
DTSTART:20211002T160000
END:DAYLIGHT
BEGIN:STANDARD
TZOFFSETFROM:+1100
TZOFFSETTO:+1000
TZNAME:AEST
DTSTART:20220402T160000
END:STANDARD
BEGIN:DAYLIGHT
TZOFFSETFROM:+1000
TZOFFSETTO:+1100
TZNAME:AEDT
DTSTART:20221001T160000
END:DAYLIGHT
END:VTIMEZONE
BEGIN:VEVENT
DTSTART;TZID=Australia/Sydney:20210522T200000
DTEND;TZID=Australia/Sydney:20210522T230000
DTSTAMP:20260425T083302
CREATED:20210501T022346Z
LAST-MODIFIED:20210501T022417Z
UID:6129-1621713600-1621724400@cronullalife.com.au
SUMMARY:BAD 80's Band at Club Cronulla
DESCRIPTION:Get your disco groove on and head down to Club Cronulla for a night of 80s classic hits.\nContact the Club for details.
URL:https://cronullalife.com.au/event/bad-80s-band-at-club-cronulla/
LOCATION:Club Cronulla\, 41 Croydon Street\, Cronulla\, NSW\, Australia
CATEGORIES:Cronulla,Live Music
END:VEVENT
END:VCALENDAR