BEGIN:VCALENDAR
VERSION:2.0
PRODID:-//Cronulla Life - ECPv6.15.20//NONSGML v1.0//EN
CALSCALE:GREGORIAN
METHOD:PUBLISH
X-WR-CALNAME:Cronulla Life
X-ORIGINAL-URL:https://cronullalife.com.au
X-WR-CALDESC:Events for Cronulla Life
REFRESH-INTERVAL;VALUE=DURATION:PT1H
X-Robots-Tag:noindex
X-PUBLISHED-TTL:PT1H
BEGIN:VTIMEZONE
TZID:Australia/Sydney
BEGIN:STANDARD
TZOFFSETFROM:+1100
TZOFFSETTO:+1000
TZNAME:AEST
DTSTART:20200404T160000
END:STANDARD
BEGIN:DAYLIGHT
TZOFFSETFROM:+1000
TZOFFSETTO:+1100
TZNAME:AEDT
DTSTART:20201003T160000
END:DAYLIGHT
BEGIN:STANDARD
TZOFFSETFROM:+1100
TZOFFSETTO:+1000
TZNAME:AEST
DTSTART:20210403T160000
END:STANDARD
BEGIN:DAYLIGHT
TZOFFSETFROM:+1000
TZOFFSETTO:+1100
TZNAME:AEDT
DTSTART:20211002T160000
END:DAYLIGHT
BEGIN:STANDARD
TZOFFSETFROM:+1100
TZOFFSETTO:+1000
TZNAME:AEST
DTSTART:20220402T160000
END:STANDARD
BEGIN:DAYLIGHT
TZOFFSETFROM:+1000
TZOFFSETTO:+1100
TZNAME:AEDT
DTSTART:20221001T160000
END:DAYLIGHT
END:VTIMEZONE
BEGIN:VEVENT
DTSTART;TZID=Australia/Sydney:20210407T093000
DTEND;TZID=Australia/Sydney:20210407T123000
DTSTAMP:20260425T070317
CREATED:20210322T073510Z
LAST-MODIFIED:20210322T073510Z
UID:6072-1617787800-1617798600@cronullalife.com.au
SUMMARY:Sister Circle Holiday Workshop
DESCRIPTION:Girls Wellbeing Workshop with Sister Circle in Cronulla\nJoin this interactive 3 hour program which helps girls aged 11 to 13 build and develop strategies to aid their mental well-being. Become a positive and happy girl able to deal with today’s challenges. \nMorning tea and gift bag provided. \n  \n 
URL:https://cronullalife.com.au/event/sister-circle-holiday-workshop/
LOCATION:We Are Mindful\, 95 Cronulla Street\, Cronulla\, NSW\, 2230\, Australia
CATEGORIES:Children's Events,Cronulla,Family Friendly
ATTACH;FMTTYPE=image/jpeg:https://cronullalife.com.au/wp-content/uploads/2021/03/Sister-Circle-Holiday-Workshop-Cronulla.jpeg
END:VEVENT
END:VCALENDAR