BEGIN:VCALENDAR
VERSION:2.0
PRODID:-//Cronulla Life - ECPv6.15.20//NONSGML v1.0//EN
CALSCALE:GREGORIAN
METHOD:PUBLISH
X-WR-CALNAME:Cronulla Life
X-ORIGINAL-URL:https://cronullalife.com.au
X-WR-CALDESC:Events for Cronulla Life
REFRESH-INTERVAL;VALUE=DURATION:PT1H
X-Robots-Tag:noindex
X-PUBLISHED-TTL:PT1H
BEGIN:VTIMEZONE
TZID:Australia/Sydney
BEGIN:STANDARD
TZOFFSETFROM:+1100
TZOFFSETTO:+1000
TZNAME:AEST
DTSTART:20200404T160000
END:STANDARD
BEGIN:DAYLIGHT
TZOFFSETFROM:+1000
TZOFFSETTO:+1100
TZNAME:AEDT
DTSTART:20201003T160000
END:DAYLIGHT
BEGIN:STANDARD
TZOFFSETFROM:+1100
TZOFFSETTO:+1000
TZNAME:AEST
DTSTART:20210403T160000
END:STANDARD
BEGIN:DAYLIGHT
TZOFFSETFROM:+1000
TZOFFSETTO:+1100
TZNAME:AEDT
DTSTART:20211002T160000
END:DAYLIGHT
BEGIN:STANDARD
TZOFFSETFROM:+1100
TZOFFSETTO:+1000
TZNAME:AEST
DTSTART:20220402T160000
END:STANDARD
BEGIN:DAYLIGHT
TZOFFSETFROM:+1000
TZOFFSETTO:+1100
TZNAME:AEDT
DTSTART:20221001T160000
END:DAYLIGHT
END:VTIMEZONE
BEGIN:VEVENT
DTSTART;TZID=Australia/Sydney:20210222T120000
DTEND;TZID=Australia/Sydney:20210228T233000
DTSTAMP:20260425T020127
CREATED:20210217T080136Z
LAST-MODIFIED:20210217T080136Z
UID:6044-1613995200-1614555000@cronullalife.com.au
SUMMARY:Margarita Week Northies Cronulla
DESCRIPTION:Woo Hoo It’s Margarita Day and to celebrate Northies is having fun for the whole week – why not!\nGet on down from Monday 22 February right through to Sunday 28 February.   T \nExperience the ultimate tequila cocktail – Northies has joined up with El Jimador to bring you a specialty cocktail menu dedicated to the Margarita.   Pair it with some tacos for a great lunch time session or party evening.   All margaritas ar $15 and tacos only $7 for the whole week. \nMore info from Northies at https://northies.com.au/whats-on/margarita-week/
URL:https://cronullalife.com.au/event/margarita-week-northies-cronulla/
LOCATION:Northies\, Cronulla\, Kingsway & Elouera Road\, Cronulla\, NSW\, 2230
CATEGORIES:Free Events,Over 18s Only,What's On
ATTACH;FMTTYPE=image/png:https://cronullalife.com.au/wp-content/uploads/2021/02/Margarita-Madness-Week-at-Northies-Cronulla.png
END:VEVENT
END:VCALENDAR