BEGIN:VCALENDAR
VERSION:2.0
PRODID:-//Cronulla Life - ECPv6.15.20//NONSGML v1.0//EN
CALSCALE:GREGORIAN
METHOD:PUBLISH
X-ORIGINAL-URL:https://cronullalife.com.au
X-WR-CALDESC:Events for Cronulla Life
REFRESH-INTERVAL;VALUE=DURATION:PT1H
X-Robots-Tag:noindex
X-PUBLISHED-TTL:PT1H
BEGIN:VTIMEZONE
TZID:Australia/Sydney
BEGIN:STANDARD
TZOFFSETFROM:+1100
TZOFFSETTO:+1000
TZNAME:AEST
DTSTART:20200404T160000
END:STANDARD
BEGIN:DAYLIGHT
TZOFFSETFROM:+1000
TZOFFSETTO:+1100
TZNAME:AEDT
DTSTART:20201003T160000
END:DAYLIGHT
BEGIN:STANDARD
TZOFFSETFROM:+1100
TZOFFSETTO:+1000
TZNAME:AEST
DTSTART:20210403T160000
END:STANDARD
BEGIN:DAYLIGHT
TZOFFSETFROM:+1000
TZOFFSETTO:+1100
TZNAME:AEDT
DTSTART:20211002T160000
END:DAYLIGHT
BEGIN:STANDARD
TZOFFSETFROM:+1100
TZOFFSETTO:+1000
TZNAME:AEST
DTSTART:20220402T160000
END:STANDARD
BEGIN:DAYLIGHT
TZOFFSETFROM:+1000
TZOFFSETTO:+1100
TZNAME:AEDT
DTSTART:20221001T160000
END:DAYLIGHT
END:VTIMEZONE
BEGIN:VEVENT
DTSTART;TZID=Australia/Sydney:20210113T080000
DTEND;TZID=Australia/Sydney:20210113T170000
DTSTAMP:20260425T040917
CREATED:20210113T043037Z
LAST-MODIFIED:20210113T043037Z
UID:5959-1610524800-1610557200@cronullalife.com.au
SUMMARY:Australia Day Cronulla 2021
DESCRIPTION:Australia Day 2021 – What’s on in Cronulla?\n			\n			\n				\n				\n				\n				\n			\n				\n				\n				\n				\n				\n				\n				\n				\n				\n				\n				It’s disappointing to learn that the annual concert and fireworks at South Cronulla will be cancelled for 2021.  And we await for Sutherland Shire Council to provide details of alternative events they are planning.\n  \nHowever\, do not fear – several venues are still planning some celebrations so check out our Cronulla Australia Day 2021 page HERE.
URL:https://cronullalife.com.au/event/australia-day-cronulla-2021/
LOCATION:Cronulla\, Cronulla\, New South Wales\, 2230\, Australia
CATEGORIES:Live Music,What's On
ATTACH;FMTTYPE=image/jpeg:https://cronullalife.com.au/wp-content/uploads/2020/12/Australia-Day-2021-in-Cronulla.jpeg
END:VEVENT
BEGIN:VEVENT
DTSTART;TZID=Australia/Sydney:20210118T080000
DTEND;TZID=Australia/Sydney:20210118T170000
DTSTAMP:20260425T040917
CREATED:20210118T052844Z
LAST-MODIFIED:20210118T052844Z
UID:5966-1610956800-1610989200@cronullalife.com.au
SUMMARY:Sip 'n' Paint Tapas
DESCRIPTION:Come down to Splash Tapas Bar in Cronulla to enjoy tasty tap and your favourite drink as you get creative!\nHosted by The Drunken Easel \nSaturday 6 February from 1.30pm through to 4.30pm \nTickets costs just $69 and that includes your artwork\, tapas and your first drink.
URL:https://cronullalife.com.au/event/sip-n-paint-tapas/
LOCATION:Splash Tapas Bar\, 1/3 McDonald Street\, Cronulla\, NSW\, 2230\, Australia
CATEGORIES:What's On
END:VEVENT
END:VCALENDAR