BEGIN:VCALENDAR
VERSION:2.0
PRODID:-//Cronulla Life - ECPv6.15.20//NONSGML v1.0//EN
CALSCALE:GREGORIAN
METHOD:PUBLISH
X-WR-CALNAME:Cronulla Life
X-ORIGINAL-URL:https://cronullalife.com.au
X-WR-CALDESC:Events for Cronulla Life
REFRESH-INTERVAL;VALUE=DURATION:PT1H
X-Robots-Tag:noindex
X-PUBLISHED-TTL:PT1H
BEGIN:VTIMEZONE
TZID:Australia/Sydney
BEGIN:STANDARD
TZOFFSETFROM:+1100
TZOFFSETTO:+1000
TZNAME:AEST
DTSTART:20190406T160000
END:STANDARD
BEGIN:DAYLIGHT
TZOFFSETFROM:+1000
TZOFFSETTO:+1100
TZNAME:AEDT
DTSTART:20191005T160000
END:DAYLIGHT
BEGIN:STANDARD
TZOFFSETFROM:+1100
TZOFFSETTO:+1000
TZNAME:AEST
DTSTART:20200404T160000
END:STANDARD
BEGIN:DAYLIGHT
TZOFFSETFROM:+1000
TZOFFSETTO:+1100
TZNAME:AEDT
DTSTART:20201003T160000
END:DAYLIGHT
BEGIN:STANDARD
TZOFFSETFROM:+1100
TZOFFSETTO:+1000
TZNAME:AEST
DTSTART:20210403T160000
END:STANDARD
BEGIN:DAYLIGHT
TZOFFSETFROM:+1000
TZOFFSETTO:+1100
TZNAME:AEDT
DTSTART:20211002T160000
END:DAYLIGHT
END:VTIMEZONE
BEGIN:VEVENT
DTSTART;TZID=Australia/Sydney:20201019T080000
DTEND;TZID=Australia/Sydney:20201130T170000
DTSTAMP:20260425T083119
CREATED:20201023T062737Z
LAST-MODIFIED:20201023T062752Z
UID:5865-1603094400-1606755600@cronullalife.com.au
SUMMARY:Life During Covid Survey Sutherland Shire Council
DESCRIPTION:Join Sutherland Shire Council’s short survey on how your life has changed during these times of Covid-19.  \nTake a little time to share your experiences and allow Council to understand what you\, Cronulla and the Shire community have been facing.  Tell them how they can provide further support and improve community life for you. \nComplete the survey to join the draw to win a $100 gift card. \nJoin the survey between 19 October and 30 November by clicking here
URL:https://cronullalife.com.au/event/life-during-covid-survey-sutherland-shire-council/
LOCATION:New South Wales
CATEGORIES:Wellbeing
ATTACH;FMTTYPE=image/jpeg:https://cronullalife.com.au/wp-content/uploads/2020/10/covid-stay-home-grey.jpg
END:VEVENT
BEGIN:VEVENT
DTSTART;TZID=Australia/Sydney:20201121T080000
DTEND;TZID=Australia/Sydney:20201122T140000
DTSTAMP:20260425T083119
CREATED:20201023T062055Z
LAST-MODIFIED:20201023T062055Z
UID:5862-1605945600-1606053600@cronullalife.com.au
SUMMARY:Garage Sale Trail Cronulla
DESCRIPTION:Join the national collective re-use movement! \nRecycle to the max and join over 15\,000 garage sales that will take place in Cronulla and the Sutherland Shire over the weekend of Saturday 21 and Sunday 22 November 2020. \nSutherland Shire Council\, is working in partnership with Garage Sale Trail  for this fab community initiative.\nA garage is not essential – simply set up in your front garden\, on your drive or team up with your neighbours – make a weekend of it! \nMore info can be found at :  Garage Sale Trail 2020  or phone 9052 0827. \n 
URL:https://cronullalife.com.au/event/garage-sale-trail-cronulla/
LOCATION:Cronulla\, Cronulla\, New South Wales\, 2230\, Australia
ATTACH;FMTTYPE=image/png:https://cronullalife.com.au/wp-content/uploads/2020/10/Garage-Sale-Trail-recycling-Cronulla.png
END:VEVENT
END:VCALENDAR