BEGIN:VCALENDAR
VERSION:2.0
PRODID:-//Cronulla Life - ECPv6.15.20//NONSGML v1.0//EN
CALSCALE:GREGORIAN
METHOD:PUBLISH
X-ORIGINAL-URL:https://cronullalife.com.au
X-WR-CALDESC:Events for Cronulla Life
REFRESH-INTERVAL;VALUE=DURATION:PT1H
X-Robots-Tag:noindex
X-PUBLISHED-TTL:PT1H
BEGIN:VTIMEZONE
TZID:Australia/Sydney
BEGIN:STANDARD
TZOFFSETFROM:+1100
TZOFFSETTO:+1000
TZNAME:AEST
DTSTART:20190406T160000
END:STANDARD
BEGIN:DAYLIGHT
TZOFFSETFROM:+1000
TZOFFSETTO:+1100
TZNAME:AEDT
DTSTART:20191005T160000
END:DAYLIGHT
BEGIN:STANDARD
TZOFFSETFROM:+1100
TZOFFSETTO:+1000
TZNAME:AEST
DTSTART:20200404T160000
END:STANDARD
BEGIN:DAYLIGHT
TZOFFSETFROM:+1000
TZOFFSETTO:+1100
TZNAME:AEDT
DTSTART:20201003T160000
END:DAYLIGHT
BEGIN:STANDARD
TZOFFSETFROM:+1100
TZOFFSETTO:+1000
TZNAME:AEST
DTSTART:20210403T160000
END:STANDARD
BEGIN:DAYLIGHT
TZOFFSETFROM:+1000
TZOFFSETTO:+1100
TZNAME:AEDT
DTSTART:20211002T160000
END:DAYLIGHT
END:VTIMEZONE
BEGIN:VEVENT
DTSTART;TZID=Australia/Sydney:20201019T080000
DTEND;TZID=Australia/Sydney:20201130T170000
DTSTAMP:20260425T083406
CREATED:20201023T062737Z
LAST-MODIFIED:20201023T062752Z
UID:5865-1603094400-1606755600@cronullalife.com.au
SUMMARY:Life During Covid Survey Sutherland Shire Council
DESCRIPTION:Join Sutherland Shire Council’s short survey on how your life has changed during these times of Covid-19.  \nTake a little time to share your experiences and allow Council to understand what you\, Cronulla and the Shire community have been facing.  Tell them how they can provide further support and improve community life for you. \nComplete the survey to join the draw to win a $100 gift card. \nJoin the survey between 19 October and 30 November by clicking here
URL:https://cronullalife.com.au/event/life-during-covid-survey-sutherland-shire-council/
LOCATION:New South Wales
CATEGORIES:Wellbeing
ATTACH;FMTTYPE=image/jpeg:https://cronullalife.com.au/wp-content/uploads/2020/10/covid-stay-home-grey.jpg
END:VEVENT
BEGIN:VEVENT
DTSTART;TZID=Australia/Sydney:20201101T100000
DTEND;TZID=Australia/Sydney:20201107T150000
DTSTAMP:20260425T083406
CREATED:20201028T002020Z
LAST-MODIFIED:20201028T002020Z
UID:5878-1604224800-1604761200@cronullalife.com.au
SUMMARY:Antiques & Collectables Fair Cronulla
DESCRIPTION:Dig out your treasures and bring them down to the Antiques and Collectable Fair taking place at Rydges Cronulla from Sunday 1 November right through to Saturday 7 November.\n\nWhat can I bring? \n\nWar medals\nMilitary items\nVintages watch – those before 1980\nBadges\nOpals\nCoins and Bank Notes from around the world\nVintage Jewellery\nPostcards and cigarette cards from before 1930\n\n  \nThe fair is open from 10am to 3pm each day\nNo appointments are necessary\nA valuation service is available for a fee to non sellers\nHome collection is also available \nCovid Care will be in place with distancing and hygiene precautions \nFor more info contact the organisers on  0418 125 817 
URL:https://cronullalife.com.au/event/antiques-collectables-fair-cronulla/
LOCATION:Rydges Cronulla\, 20-26 Kingsway\, Cronulla\, NSW\, 2230\, Australia
CATEGORIES:Family Friendly,Free Events,What's On
ATTACH;FMTTYPE=image/jpeg:https://cronullalife.com.au/wp-content/uploads/2020/10/Antique-Fair-Cronulla.jpeg
END:VEVENT
BEGIN:VEVENT
DTSTART;TZID=Australia/Sydney:20201103T150000
DTEND;TZID=Australia/Sydney:20201103T170000
DTSTAMP:20260425T083406
CREATED:20201018T090037Z
LAST-MODIFIED:20201018T091728Z
UID:5848-1604415600-1604422800@cronullalife.com.au
SUMMARY:Melbourne Cup in Cronulla!
DESCRIPTION:Come and join the fun of Melbourne Cup in Cronulla’s bars and restaurants. \nGet your fascinator on\, or dress down and chill as you watch the excitement of the most famous race from Flemington racecourse. \nThe race starts at 3pm but the fun kicks off much earlier. \nCheck times with venues hosting Melbourne Cup events. \n 
URL:https://cronullalife.com.au/event/melbourne-cup-in-cronulla/
LOCATION:New South Wales
CATEGORIES:What's On
ATTACH;FMTTYPE=image/png:https://cronullalife.com.au/wp-content/uploads/2020/10/Celebrate-Melbourne-Cup-in-Cronulla.png
END:VEVENT
END:VCALENDAR